BEGIN:VCALENDAR
VERSION:2.0
PRODID:NCyTE Center Calendar Creator
METHOD:PUBLISH
BEGIN:VEVENT
DTSTAMP:20250213T104109
DTSTART:20250312T100000
DTEND:20250312T110000
SUMMARY:ATE Central Office Hours: RECITE Immersive Technologies
DESCRIPTION:<p style="text-align: center;"></p><p style="text-align: center;"><b>RECITE Immersive Technologies Office Hours</b><br><i>Wednesday, March 12, 2025</i><br><i>1:00pm - 2:00pm Eastern</i></p><p style="text-align: center;"><i>&nbsp;</i></p><p>Join ATE Central and the Resource Collaborative for Immersive Technologies (RECITE) for an engaging office hours session in March! Attendees will get a chance to explore RECITE's XR Implementation Framework, learn about their upcoming OEXR Library, and dive into guidelines for XR use in education. Connect, share ideas, and advance your XR initiatives during this interactive session.</p><p><a href="http://scout.wisc.edu/phplist/lists/lt.php?tid=exoAUwUBVQQKBhwAWFQGFVFWD1NMWg1XDE8ABldQAFQDU1lUAglMXgtQA1FaVAUVBAVUAkxWAANTT11VAlUYBwNSWFwEAgBQBFMHTA0AU1pXBwNRTFpcBFFPUVIKUhhWAVUESAIDAgIBB1cFXwcFDA">Register for the RECITE Immersive Technologies Office Hours here</a></p>
X-ALT-DESC;FMTTYPE=text/html:<p style="text-align: center;"></p><p style="text-align: center;"><b>RECITE Immersive Technologies Office Hours</b><br><i>Wednesday, March 12, 2025</i><br><i>1:00pm - 2:00pm Eastern</i></p><p style="text-align: center;"><i>&nbsp;</i></p><p>Join ATE Central and the Resource Collaborative for Immersive Technologies (RECITE) for an engaging office hours session in March! Attendees will get a chance to explore RECITE's XR Implementation Framework, learn about their upcoming OEXR Library, and dive into guidelines for XR use in education. Connect, share ideas, and advance your XR initiatives during this interactive session.</p><p><a href="http://scout.wisc.edu/phplist/lists/lt.php?tid=exoAUwUBVQQKBhwAWFQGFVFWD1NMWg1XDE8ABldQAFQDU1lUAglMXgtQA1FaVAUVBAVUAkxWAANTT11VAlUYBwNSWFwEAgBQBFMHTA0AU1pXBwNRTFpcBFFPUVIKUhhWAVUESAIDAgIBB1cFXwcFDA">Register for the RECITE Immersive Technologies Office Hours here</a></p>
LOCATION:
CLASS:PUBLIC
END:VEVENT
END:VCALENDAR
