BEGIN:VCALENDAR
VERSION:2.0
PRODID:NCyTE Center Calendar Creator
METHOD:PUBLISH
BEGIN:VEVENT
DTSTAMP:20250213T103536
DTSTART:20250225T100000
DTEND:20250225T110000
SUMMARY:ATE Central Office Hour: Exploring the Power of AI and Job Task Analysis with the EARTh Center
DESCRIPTION:<p><b><p style="text-align: center;">&nbsp;</p></b></p><p style="text-align: center;"><b>Exploring the Power of AI and Job Task Analysis with the EARTh Center Office Hours</b><br><i>Tuesday, February 25, 2025</i><br><i>1:00pm - 2:00pm Eastern</i></p><p>Join ATE Central and the EARTh Center for an engaging ATE Office Hours session where we explore the transformative potential of AI in conducting Job Task Analysis (JTA). This live demonstration will showcase how AI tools streamline and enhance the JTA process, enabling educators and industry professionals to identify key job roles, skills, and competencies with greater efficiency and precision. In today's fast-paced world, companies are operating leaner than ever, making it increasingly difficult to secure industry professionals for multi-day DACUM/JTA sessions. By leveraging AI, we can address this challenge by gathering and analyzing data to build a strong framework, significantly reducing the time and commitment required from industry partners. This approach not only aligns curriculum with workforce needs but also ensures meaningful engagement with industry stakeholders while respecting their time constraints. Don't miss this opportunity to see AI in action and learn how it can help modernize and streamline your program's approach to JTA.</p><p><a href="http://scout.wisc.edu/phplist/lists/lt.php?tid=exoEAQQHUVJWUhwHX1BVFVEKU1dMW1tRBk9SUQoKUQYGBAQDUQRMXgtQA1FaVAUVBAVUAkxWAANTT11VAlUYBwNSWFwEAgBQBFMHTA0AU1pXBwNRTFpcBFFPUVIKUhhWAVUESAIDAgIBB1cFXwcFDA">Register for the AI and Job Task Analysis with EARTh Office Hours here</a></p>
X-ALT-DESC;FMTTYPE=text/html:<p><b><p style="text-align: center;">&nbsp;</p></b></p><p style="text-align: center;"><b>Exploring the Power of AI and Job Task Analysis with the EARTh Center Office Hours</b><br><i>Tuesday, February 25, 2025</i><br><i>1:00pm - 2:00pm Eastern</i></p><p>Join ATE Central and the EARTh Center for an engaging ATE Office Hours session where we explore the transformative potential of AI in conducting Job Task Analysis (JTA). This live demonstration will showcase how AI tools streamline and enhance the JTA process, enabling educators and industry professionals to identify key job roles, skills, and competencies with greater efficiency and precision. In today's fast-paced world, companies are operating leaner than ever, making it increasingly difficult to secure industry professionals for multi-day DACUM/JTA sessions. By leveraging AI, we can address this challenge by gathering and analyzing data to build a strong framework, significantly reducing the time and commitment required from industry partners. This approach not only aligns curriculum with workforce needs but also ensures meaningful engagement with industry stakeholders while respecting their time constraints. Don't miss this opportunity to see AI in action and learn how it can help modernize and streamline your program's approach to JTA.</p><p><a href="http://scout.wisc.edu/phplist/lists/lt.php?tid=exoEAQQHUVJWUhwHX1BVFVEKU1dMW1tRBk9SUQoKUQYGBAQDUQRMXgtQA1FaVAUVBAVUAkxWAANTT11VAlUYBwNSWFwEAgBQBFMHTA0AU1pXBwNRTFpcBFFPUVIKUhhWAVUESAIDAgIBB1cFXwcFDA">Register for the AI and Job Task Analysis with EARTh Office Hours here</a></p>
LOCATION:
CLASS:PUBLIC
END:VEVENT
END:VCALENDAR
