BEGIN:VCALENDAR
VERSION:2.0
PRODID:NCyTE Center Calendar Creator
METHOD:PUBLISH
BEGIN:VEVENT
DTSTAMP:20251114T134509
DTSTART:20251121T090000
DTEND:20251121T110000
SUMMARY:NCyTE Monthly Meeting: Advancing Native American Youth in Cybersecurity and STEM: A Replicable Model
DESCRIPTION:<p style="text-align: center;"></p><p style="text-align: center;">SPECIAL Two -hour Monthly Meeting - Virtual</p><p style="text-align: center;">November 21, 2025</p><p style="text-align: center;">9:00 AM - 11:00 AM PST</p><p style="text-align: center;"><span style="color: rgb(0, 48, 92); font-family: inherit; font-size: 32px; font-weight: 600; text-align: left;">Advancing Native American Youth in Cybersecurity and STEM: A Replicable Model</span></p><p>As we honor National Native American Heritage Month in November, join us for a special two-hour panel presentation with representatives from Eastern New Mexico University-Ruidoso and the Mescalero Apache School.&nbsp;</p><p>Learn how dual credit programs, local access to higher education, and workforce partnerships help students stay connected to their community while preparing for high-demand careers. The model integrates culture, language, and hands-on learning from early childhood through college and career training. &nbsp;Hear how this collaborative approach is strengthening both student outcomes and the Mescalero Apache Tribe’s future.</p><p style="text-align: center;">&nbsp;<a href="https://ncytecenter.wildapricot.org/event-6263581 " target="_blank" rel="noopener" style="font-size: 25.6px; font-weight: 600; text-align: center;">REGISTER</a></p>
X-ALT-DESC;FMTTYPE=text/html:<p style="text-align: center;"></p><p style="text-align: center;">SPECIAL Two -hour Monthly Meeting - Virtual</p><p style="text-align: center;">November 21, 2025</p><p style="text-align: center;">9:00 AM - 11:00 AM PST</p><p style="text-align: center;"><span style="color: rgb(0, 48, 92); font-family: inherit; font-size: 32px; font-weight: 600; text-align: left;">Advancing Native American Youth in Cybersecurity and STEM: A Replicable Model</span></p><p>As we honor National Native American Heritage Month in November, join us for a special two-hour panel presentation with representatives from Eastern New Mexico University-Ruidoso and the Mescalero Apache School.&nbsp;</p><p>Learn how dual credit programs, local access to higher education, and workforce partnerships help students stay connected to their community while preparing for high-demand careers. The model integrates culture, language, and hands-on learning from early childhood through college and career training. &nbsp;Hear how this collaborative approach is strengthening both student outcomes and the Mescalero Apache Tribe’s future.</p><p style="text-align: center;">&nbsp;<a href="https://ncytecenter.wildapricot.org/event-6263581 " target="_blank" rel="noopener" style="font-size: 25.6px; font-weight: 600; text-align: center;">REGISTER</a></p>
LOCATION:Virtual\, 
CLASS:PUBLIC
END:VEVENT
END:VCALENDAR
