BEGIN:VCALENDAR
VERSION:2.0
PRODID:NCyTE Center Calendar Creator
METHOD:PUBLISH
BEGIN:VEVENT
DTSTAMP:20250924T094824
DTSTART:20251017T090000
DTEND:20251017T100000
SUMMARY:NCyTE Monthly Meeting
DESCRIPTION:<p style="text-align: center;"></p><p style="text-align: center;">Monthly Meeting - Virtual</p><p style="text-align: center;">October 17, 2025</p><p style="text-align: center;">9:00 AM - 10:00 AM PST</p><h1 align="center">Cybersecurity Internships, Apprenticeships, and Workforce Pathways&nbsp;</h1><p style="text-align: left;"><span style="text-align: left;">Join us at the NCyTE Monthly Meeting!&nbsp;</span></p><p>Guest speaker Dr. Sarah Jane shares her insights on expanding cybersecurity workforce development through internships, apprenticeships, and academic-industry collaboration.&nbsp;Sally Kay has extensive experience in Department of Labor (DOL) Apprenticeship programs and widespread industry connections.</p><p>Dr. Sarah Jane (Sallie Kay) is the Associate Vice Chancellor for Continuing and Professional Development at San Jacinto College.&nbsp;&nbsp;</p><h2 style="text-align: center;"><a href="	https://ncytecenter.wildapricot.org/event-6263578 " target="_blank" rel="noopener">REGISTER</a></h2>
X-ALT-DESC;FMTTYPE=text/html:<p style="text-align: center;"></p><p style="text-align: center;">Monthly Meeting - Virtual</p><p style="text-align: center;">October 17, 2025</p><p style="text-align: center;">9:00 AM - 10:00 AM PST</p><h1 align="center">Cybersecurity Internships, Apprenticeships, and Workforce Pathways&nbsp;</h1><p style="text-align: left;"><span style="text-align: left;">Join us at the NCyTE Monthly Meeting!&nbsp;</span></p><p>Guest speaker Dr. Sarah Jane shares her insights on expanding cybersecurity workforce development through internships, apprenticeships, and academic-industry collaboration.&nbsp;Sally Kay has extensive experience in Department of Labor (DOL) Apprenticeship programs and widespread industry connections.</p><p>Dr. Sarah Jane (Sallie Kay) is the Associate Vice Chancellor for Continuing and Professional Development at San Jacinto College.&nbsp;&nbsp;</p><h2 style="text-align: center;"><a href="	https://ncytecenter.wildapricot.org/event-6263578 " target="_blank" rel="noopener">REGISTER</a></h2>
LOCATION:Virtual\, 
CLASS:PUBLIC
END:VEVENT
END:VCALENDAR
