BEGIN:VCALENDAR
VERSION:2.0
PRODID:NCyTE Center Calendar Creator
METHOD:PUBLISH
BEGIN:VEVENT
DTSTAMP:20250513T105612
DTSTART:20250728T080000
DTEND:20250801T160000
SUMMARY:ISACA CISM: Certified Information Security Manager Workshop
DESCRIPTION:<p style="text-align: center;"></p><p style="text-align: center;">Virtual</p><p style="text-align: center;">July 28 - August 1, 2025</p><p style="text-align: left;">&nbsp;</p><h2>Workshop Description</h2><p style="text-align: left;">Elevate your career in IT security management with&nbsp;ISACA’s Certified Information Security Manager&nbsp;(CISM) certification. This globally recognized<br>credential demonstrates your expertise in&nbsp;information security governance, program&nbsp;development and management, incident response,<br>and risk management. Designed for mid-career IT&nbsp;professionals aspiring to senior management roles,&nbsp;CISM provides the visibility and credibility needed to&nbsp;lead in the field of IT security.&nbsp;CISM validates your ability to align an organization’s&nbsp;information security program with its strategic&nbsp;objectives, build trust with stakeholders, and&nbsp;enhance your team’s commitment to compliance and&nbsp;security. Whether you’re looking to advance in your<br>career or strengthen your organization’s security&nbsp;posture, this workshop is your key to success.&nbsp;</p><h2>Workshop Highlights</h2><p style="text-align: left;">• Comprehensive preparation for the&nbsp;globally recognized CISM certification.<br>• Training in key areas: governance,&nbsp;program development, incident&nbsp;management, and risk management.<br>• Learn strategies to align IT security&nbsp;programs with organizational goals.<br>• Build credibility with internal and&nbsp;external stakeholders, peers, and&nbsp;regulators.<br>• Enhance your team’s security and&nbsp;compliance practices for improved&nbsp;customer trust and retention.</p><p style="text-align: center;">&nbsp;<span style="font-size: 25.6px; font-weight: 600;"><a href="https://ncytecenter.wildapricot.org/event-6043726 " target="_blank">REGISTER</a></span></p>
X-ALT-DESC;FMTTYPE=text/html:<p style="text-align: center;"></p><p style="text-align: center;">Virtual</p><p style="text-align: center;">July 28 - August 1, 2025</p><p style="text-align: left;">&nbsp;</p><h2>Workshop Description</h2><p style="text-align: left;">Elevate your career in IT security management with&nbsp;ISACA’s Certified Information Security Manager&nbsp;(CISM) certification. This globally recognized<br>credential demonstrates your expertise in&nbsp;information security governance, program&nbsp;development and management, incident response,<br>and risk management. Designed for mid-career IT&nbsp;professionals aspiring to senior management roles,&nbsp;CISM provides the visibility and credibility needed to&nbsp;lead in the field of IT security.&nbsp;CISM validates your ability to align an organization’s&nbsp;information security program with its strategic&nbsp;objectives, build trust with stakeholders, and&nbsp;enhance your team’s commitment to compliance and&nbsp;security. Whether you’re looking to advance in your<br>career or strengthen your organization’s security&nbsp;posture, this workshop is your key to success.&nbsp;</p><h2>Workshop Highlights</h2><p style="text-align: left;">• Comprehensive preparation for the&nbsp;globally recognized CISM certification.<br>• Training in key areas: governance,&nbsp;program development, incident&nbsp;management, and risk management.<br>• Learn strategies to align IT security&nbsp;programs with organizational goals.<br>• Build credibility with internal and&nbsp;external stakeholders, peers, and&nbsp;regulators.<br>• Enhance your team’s security and&nbsp;compliance practices for improved&nbsp;customer trust and retention.</p><p style="text-align: center;">&nbsp;<span style="font-size: 25.6px; font-weight: 600;"><a href="https://ncytecenter.wildapricot.org/event-6043726 " target="_blank">REGISTER</a></span></p>
LOCATION:Virtual\, 
CLASS:PUBLIC
END:VEVENT
END:VCALENDAR
