BEGIN:VCALENDAR
VERSION:2.0
PRODID:NCyTE Center Calendar Creator
METHOD:PUBLISH
BEGIN:VEVENT
DTSTAMP:20250124T140822
DTSTART:20250624T090000
DTEND:20250625T170000
SUMMARY:CyAD: Cybersecurity Across Disciplines Summit
DESCRIPTION:<p><p style="text-align: center;">&nbsp;</p><p style="text-align: center;">Moraine Valley Community College</p><p style="text-align: center;">900 W. College Parkway</p><p style="text-align: center;">Palos Hills, IL 60465</p><p style="text-align: center;"></p></p><p><strong>ABOUT THE SUMMIT</strong></p><p>The Cybersecurity Across Disciplines (CyAD) Summit is a unique event designed to serve educators in various fields to explore the intersection of cybersecurity within their specific educational program areas and the industries they serve.</p><p>This event brings together community and technical college faculty from diverse disciplines to address cybersecurity concerns in all business and all critical infrastructure sectors including but not limited to manufacturing, healthcare, retail, engineering, and banking and finance.&nbsp; Industry operational technology owners and operators from all critical infrastructure sectors are encouraged to attend and leverage this opportunity to engage with academia about their unique sector disciplines and cybersecurity needs.</p><p>“CyAD…where academia and industry meet for advancing cybersecurity curriculum development."</p><h2 style="text-align: center;"><span style="color: rgb(255, 0, 0);">Registration open February 3, 2025.</span></h2><h2 style="text-align: center;"><a href="	https://ncytecenter.wildapricot.org/event-5872209 " target="_blank">Register to Attend</a></h2>
X-ALT-DESC;FMTTYPE=text/html:<p><p style="text-align: center;">&nbsp;</p><p style="text-align: center;">Moraine Valley Community College</p><p style="text-align: center;">900 W. College Parkway</p><p style="text-align: center;">Palos Hills, IL 60465</p><p style="text-align: center;"></p></p><p><strong>ABOUT THE SUMMIT</strong></p><p>The Cybersecurity Across Disciplines (CyAD) Summit is a unique event designed to serve educators in various fields to explore the intersection of cybersecurity within their specific educational program areas and the industries they serve.</p><p>This event brings together community and technical college faculty from diverse disciplines to address cybersecurity concerns in all business and all critical infrastructure sectors including but not limited to manufacturing, healthcare, retail, engineering, and banking and finance.&nbsp; Industry operational technology owners and operators from all critical infrastructure sectors are encouraged to attend and leverage this opportunity to engage with academia about their unique sector disciplines and cybersecurity needs.</p><p>“CyAD…where academia and industry meet for advancing cybersecurity curriculum development."</p><h2 style="text-align: center;"><span style="color: rgb(255, 0, 0);">Registration open February 3, 2025.</span></h2><h2 style="text-align: center;"><a href="	https://ncytecenter.wildapricot.org/event-5872209 " target="_blank">Register to Attend</a></h2>
LOCATION:Moraine Valley Community College\, 9000 W. College Parkway Palos Hills\, Illinois 60465
CLASS:PUBLIC
END:VEVENT
END:VCALENDAR
