BEGIN:VCALENDAR
VERSION:2.0
PRODID:NCyTE Center Calendar Creator
METHOD:PUBLISH
BEGIN:VEVENT
DTSTAMP:20250806T125651
DTSTART:20250815T090000
DTEND:20250815T100000
SUMMARY:NCyTE Monthly Meeting
DESCRIPTION:<p style="text-align: center;"></p><p style="text-align: center;">Monthly Meeting - Virtual</p><p style="text-align: center;">August 15, 2025</p><p style="text-align: center;">9:00 AM - 10:00 AM PST</p><p style="text-align: center;"><em>Adding Operational Technology (OT) to your Enterprise Risk Framework</em></p><h2 style="text-align: center;"><a href="	https://ncytecenter.wildapricot.org/event-6191981 " target="_blank">REGISTER</a></h2><p data-wacontent="16" data-wacontenttag="P">Maria O’Neill will share real-world lessons learned from helping both small and large organizations build and mature their cybersecurity strategies. From design and implementation to daily operations and defense, this session offers practical insights and proven approaches to securing OT environments. Ideal for educators preparing the next generation of cybersecurity professionals, this webinar bridges academic knowledge with industry application.</p><p data-wacontent="19" data-wacontenttag="P"><strong data-wacontent="21" data-wacontenttag="STRONG"><br data-wacontent="22" data-wacontenttag="BR"></strong></p><p data-wacontent="23" data-wacontenttag="P" data-start="224" data-end="356"><strong data-wacontent="24" data-wacontenttag="STRONG">Maria O'Neill</strong></p><p data-wacontent="27" data-wacontenttag="P">Maria F. O’Neill is a CIO and senior technology executive with over two decades of IT leadership and consulting experience spanning mature multinational oil and gas and maritime companies to boutique consulting start-ups.</p><p data-wacontent="30" data-wacontenttag="P">Maria is an avid change advocate, recognized for understanding and liaising with business leaders to develop and implement technology solutions that deliver impactful business value.</p><p data-wacontent="33" data-wacontenttag="P">She builds trusted relationships with company decision-makers and technology management teams and embraces a blended collaborative and empowering leadership style that brings people and teams together.</p>
X-ALT-DESC;FMTTYPE=text/html:<p style="text-align: center;"></p><p style="text-align: center;">Monthly Meeting - Virtual</p><p style="text-align: center;">August 15, 2025</p><p style="text-align: center;">9:00 AM - 10:00 AM PST</p><p style="text-align: center;"><em>Adding Operational Technology (OT) to your Enterprise Risk Framework</em></p><h2 style="text-align: center;"><a href="	https://ncytecenter.wildapricot.org/event-6191981 " target="_blank">REGISTER</a></h2><p data-wacontent="16" data-wacontenttag="P">Maria O’Neill will share real-world lessons learned from helping both small and large organizations build and mature their cybersecurity strategies. From design and implementation to daily operations and defense, this session offers practical insights and proven approaches to securing OT environments. Ideal for educators preparing the next generation of cybersecurity professionals, this webinar bridges academic knowledge with industry application.</p><p data-wacontent="19" data-wacontenttag="P"><strong data-wacontent="21" data-wacontenttag="STRONG"><br data-wacontent="22" data-wacontenttag="BR"></strong></p><p data-wacontent="23" data-wacontenttag="P" data-start="224" data-end="356"><strong data-wacontent="24" data-wacontenttag="STRONG">Maria O'Neill</strong></p><p data-wacontent="27" data-wacontenttag="P">Maria F. O’Neill is a CIO and senior technology executive with over two decades of IT leadership and consulting experience spanning mature multinational oil and gas and maritime companies to boutique consulting start-ups.</p><p data-wacontent="30" data-wacontenttag="P">Maria is an avid change advocate, recognized for understanding and liaising with business leaders to develop and implement technology solutions that deliver impactful business value.</p><p data-wacontent="33" data-wacontenttag="P">She builds trusted relationships with company decision-makers and technology management teams and embraces a blended collaborative and empowering leadership style that brings people and teams together.</p>
LOCATION:Virtual\, 
CLASS:PUBLIC
END:VEVENT
END:VCALENDAR
