BEGIN:VCALENDAR
VERSION:2.0
PRODID:NCyTE Center Calendar Creator
METHOD:PUBLISH
BEGIN:VEVENT
DTSTAMP:20250407T160533
DTSTART:20250616T080000
DTEND:20250619T160000
SUMMARY:ISACA CISA: Certified Information Systems Auditor Workshop
DESCRIPTION:<p style="text-align: center;"></p><p style="text-align: center;">June 16-19, 2025</p><p style="text-align: center;">Virtual</p><p style="text-align: center;">&nbsp;</p><p style="text-align: left;"><strong>Workshop Description</strong></p><p style="text-align: left;">Elevate your career and validate your expertise&nbsp;with ISACA’s Certified Information Systems&nbsp;Auditor (CISA) certification. Recognized globally&nbsp;as the gold standard for auditing, controlling,&nbsp;monitoring, and assessing IT and business&nbsp;systems, the CISA certification is essential for&nbsp;entry-level to mid-career professionals looking to&nbsp;establish credibility and advance in the IT field.&nbsp;This workshop will equip you with the knowledge&nbsp;and skills to apply a risk-based approach to&nbsp;audit engagements, communicate effectively&nbsp;with internal and external stakeholders, and&nbsp;integrate privacy by design into technology&nbsp;solutions. Whether you’re looking to enhance&nbsp;your professional standing or improve your&nbsp;organization’s compliance processes, this&nbsp;training is your pathway to success.&nbsp;</p><p style="text-align: left;"><strong>Workshop Highlights</strong></p><ul>    <li style="text-align: left;">Comprehensive preparation for the globally&nbsp;recognized CISA certification.&nbsp;</li>    <li style="text-align: left;">Training on applying a risk-based approach to&nbsp;planning, executing, and reporting audits.&nbsp;</li>    <li style="text-align: left;">Learn how to integrate privacy by design into&nbsp;platforms, products, and processes.&nbsp;</li>    <li style="text-align: left;">Gain tools to communicate effectively with&nbsp;regulators, auditors, and internal stakeholders.&nbsp;</li>    <li style="text-align: left;">Enhance your organization’s compliance&nbsp;processes efficiently and cost-effectively.&nbsp;</li>    <li style="text-align: left;">Ideal for entry-level to mid-career IT&nbsp;professionals seeking to advance their<br>    careers.</li></ul><h2 style="text-align: center;"><a href="https://ncytecenter.wildapricot.org/event-6043685 " target="_blank">REGISTER</a></h2>
X-ALT-DESC;FMTTYPE=text/html:<p style="text-align: center;"></p><p style="text-align: center;">June 16-19, 2025</p><p style="text-align: center;">Virtual</p><p style="text-align: center;">&nbsp;</p><p style="text-align: left;"><strong>Workshop Description</strong></p><p style="text-align: left;">Elevate your career and validate your expertise&nbsp;with ISACA’s Certified Information Systems&nbsp;Auditor (CISA) certification. Recognized globally&nbsp;as the gold standard for auditing, controlling,&nbsp;monitoring, and assessing IT and business&nbsp;systems, the CISA certification is essential for&nbsp;entry-level to mid-career professionals looking to&nbsp;establish credibility and advance in the IT field.&nbsp;This workshop will equip you with the knowledge&nbsp;and skills to apply a risk-based approach to&nbsp;audit engagements, communicate effectively&nbsp;with internal and external stakeholders, and&nbsp;integrate privacy by design into technology&nbsp;solutions. Whether you’re looking to enhance&nbsp;your professional standing or improve your&nbsp;organization’s compliance processes, this&nbsp;training is your pathway to success.&nbsp;</p><p style="text-align: left;"><strong>Workshop Highlights</strong></p><ul>    <li style="text-align: left;">Comprehensive preparation for the globally&nbsp;recognized CISA certification.&nbsp;</li>    <li style="text-align: left;">Training on applying a risk-based approach to&nbsp;planning, executing, and reporting audits.&nbsp;</li>    <li style="text-align: left;">Learn how to integrate privacy by design into&nbsp;platforms, products, and processes.&nbsp;</li>    <li style="text-align: left;">Gain tools to communicate effectively with&nbsp;regulators, auditors, and internal stakeholders.&nbsp;</li>    <li style="text-align: left;">Enhance your organization’s compliance&nbsp;processes efficiently and cost-effectively.&nbsp;</li>    <li style="text-align: left;">Ideal for entry-level to mid-career IT&nbsp;professionals seeking to advance their<br>    careers.</li></ul><h2 style="text-align: center;"><a href="https://ncytecenter.wildapricot.org/event-6043685 " target="_blank">REGISTER</a></h2>
LOCATION:Virtual\, 
CLASS:PUBLIC
END:VEVENT
END:VCALENDAR
