BEGIN:VCALENDAR
VERSION:2.0
PRODID:NCyTE Center Calendar Creator
METHOD:PUBLISH
BEGIN:VEVENT
DTSTAMP:20250124T130015
DTSTART:20250605T100000
DTEND:20250606T160000
SUMMARY:Arduino Certification Workshop
DESCRIPTION:<p style="text-align: center;"></p><p style="text-align: center;">June 5 -6 , 2025</p><p style="text-align: center;">Virtual</p><p style="text-align: left;"><strong>Workshop Description</strong></p><p style="text-align: left;">&nbsp;Discover the exciting world of the Internet of Things&nbsp;(IoT) with this hands-on workshop designed&nbsp;specifically for educators! Through engaging&nbsp;projects, you’ll explore electrical concepts,&nbsp;components, and theories using Arduino&nbsp;microcontrollers, electronic components, sensors,&nbsp;actuators, and computer programming. Gain a solid&nbsp;foundation in IoT technologies and learn how to&nbsp;effectively teach these concepts to high school and&nbsp;college students.&nbsp;This workshop also prepares participants for the&nbsp;Arduino Certification Exam, making it an excellent&nbsp;opportunity to expand your expertise and&nbsp;credentials. No prior experience in electronics or&nbsp;programming is needed, so educators of all&nbsp;backgrounds are welcome to join!</p><p style="text-align: left;"><strong>Workshop Highlights</strong></p><ul>    <li style="text-align: left;">Hands-on projects exploring IoT using&nbsp;Arduino microcontrollers.</li>    <li style="text-align: left;">Learn about electrical concepts,&nbsp;components, sensors, and actuators.</li>    <li style="text-align: left;">Develop skills in computer programming&nbsp;to support IoT applications.</li>    <li style="text-align: left;">Gain teaching strategies for integrating&nbsp;IoT concepts into high school and college&nbsp;curricula.&nbsp;</li>    <li style="text-align: left;">Preparation for the Arduino Certification&nbsp;Exam.&nbsp;</li>    <li style="text-align: left;">Open to educators with or without prior&nbsp;electronics or programming experience<strong>.</strong></li></ul><h2 style="text-align: center;"><a href="	https://ncytecenter.wildapricot.org/event-6043655 " target="_blank">&nbsp;REGISTER</a></h2><p>&nbsp;</p>
X-ALT-DESC;FMTTYPE=text/html:<p style="text-align: center;"></p><p style="text-align: center;">June 5 -6 , 2025</p><p style="text-align: center;">Virtual</p><p style="text-align: left;"><strong>Workshop Description</strong></p><p style="text-align: left;">&nbsp;Discover the exciting world of the Internet of Things&nbsp;(IoT) with this hands-on workshop designed&nbsp;specifically for educators! Through engaging&nbsp;projects, you’ll explore electrical concepts,&nbsp;components, and theories using Arduino&nbsp;microcontrollers, electronic components, sensors,&nbsp;actuators, and computer programming. Gain a solid&nbsp;foundation in IoT technologies and learn how to&nbsp;effectively teach these concepts to high school and&nbsp;college students.&nbsp;This workshop also prepares participants for the&nbsp;Arduino Certification Exam, making it an excellent&nbsp;opportunity to expand your expertise and&nbsp;credentials. No prior experience in electronics or&nbsp;programming is needed, so educators of all&nbsp;backgrounds are welcome to join!</p><p style="text-align: left;"><strong>Workshop Highlights</strong></p><ul>    <li style="text-align: left;">Hands-on projects exploring IoT using&nbsp;Arduino microcontrollers.</li>    <li style="text-align: left;">Learn about electrical concepts,&nbsp;components, sensors, and actuators.</li>    <li style="text-align: left;">Develop skills in computer programming&nbsp;to support IoT applications.</li>    <li style="text-align: left;">Gain teaching strategies for integrating&nbsp;IoT concepts into high school and college&nbsp;curricula.&nbsp;</li>    <li style="text-align: left;">Preparation for the Arduino Certification&nbsp;Exam.&nbsp;</li>    <li style="text-align: left;">Open to educators with or without prior&nbsp;electronics or programming experience<strong>.</strong></li></ul><h2 style="text-align: center;"><a href="	https://ncytecenter.wildapricot.org/event-6043655 " target="_blank">&nbsp;REGISTER</a></h2><p>&nbsp;</p>
LOCATION:
CLASS:PUBLIC
END:VEVENT
END:VCALENDAR
