BEGIN:VCALENDAR
VERSION:2.0
PRODID:NCyTE Center Calendar Creator
METHOD:PUBLISH
BEGIN:VEVENT
DTSTAMP:20250414T151747
DTSTART:20250519T100000
DTEND:20250522T160000
SUMMARY:(ISC)2 CISSP: Certified Information Systems Security Professional Workshop
DESCRIPTION:<p style="text-align: center;"></p><p style="text-align: left;"><strong>Workshop Description</strong></p><p style="text-align: left;">Gain the credentials that set you apart in the cybersecurity field with the Certified Information Systems Security&nbsp;Professional (CISSP) training. This comprehensive course is designed to equip you with the knowledge and skills&nbsp;needed to design, implement, and manage a world-class cybersecurity program. Offered through the NCyTE Center as part&nbsp;of the (ISC)² Global Academic Program, this training provides all student materials, flashcards, and access to&nbsp;the CISSP CBK, ensuring a thorough preparation for the CISSP exam. By earning your CISSP, you validate your&nbsp;expertise and unlock access to exclusive (ISC)² resources, tools, and professional networking opportunities.</p><p style="text-align: left;"><strong>Workshop Highlights</strong></p><ul>    <li style="text-align: left;">Comprehensive review of the 8 CISSP domains, including Risk Management, Security Operations, and more.</li>    <li style="text-align: left;">Materials provided include CISSP CBK, student guides, and flashcards.</li>    <li style="text-align: left;">Hands-on labs aligned with NSA Knowledge Units to enhance learning.</li>    <li style="text-align: left;">Designed to refresh knowledge, identify study priorities, and prepare for the CISSP exam.</li>    <li style="text-align: left;">Opportunity to join the prestigious (ISC)² community and access exclusive resources.</li></ul><h2 style="text-align: center;"><a href="	https://ncytecenter.wildapricot.org/event-6042404 " target="_blank">REGISTER</a></h2><p style="text-align: center;">&nbsp;</p>
X-ALT-DESC;FMTTYPE=text/html:<p style="text-align: center;"></p><p style="text-align: left;"><strong>Workshop Description</strong></p><p style="text-align: left;">Gain the credentials that set you apart in the cybersecurity field with the Certified Information Systems Security&nbsp;Professional (CISSP) training. This comprehensive course is designed to equip you with the knowledge and skills&nbsp;needed to design, implement, and manage a world-class cybersecurity program. Offered through the NCyTE Center as part&nbsp;of the (ISC)² Global Academic Program, this training provides all student materials, flashcards, and access to&nbsp;the CISSP CBK, ensuring a thorough preparation for the CISSP exam. By earning your CISSP, you validate your&nbsp;expertise and unlock access to exclusive (ISC)² resources, tools, and professional networking opportunities.</p><p style="text-align: left;"><strong>Workshop Highlights</strong></p><ul>    <li style="text-align: left;">Comprehensive review of the 8 CISSP domains, including Risk Management, Security Operations, and more.</li>    <li style="text-align: left;">Materials provided include CISSP CBK, student guides, and flashcards.</li>    <li style="text-align: left;">Hands-on labs aligned with NSA Knowledge Units to enhance learning.</li>    <li style="text-align: left;">Designed to refresh knowledge, identify study priorities, and prepare for the CISSP exam.</li>    <li style="text-align: left;">Opportunity to join the prestigious (ISC)² community and access exclusive resources.</li></ul><h2 style="text-align: center;"><a href="	https://ncytecenter.wildapricot.org/event-6042404 " target="_blank">REGISTER</a></h2><p style="text-align: center;">&nbsp;</p>
LOCATION:Virtual\, 
CLASS:PUBLIC
END:VEVENT
END:VCALENDAR
