BEGIN:VCALENDAR
VERSION:2.0
PRODID:NCyTE Center Calendar Creator
METHOD:PUBLISH
BEGIN:VEVENT
DTSTAMP:20250123T124600
DTSTART:20250507T080000
DTEND:20250509T170000
SUMMARY:Privacy & Security Spring Academy
DESCRIPTION:<p style="text-align: center;"></p><h3 style="text-align: center;">Spring Academy</h3><h3 style="text-align: center;">May 7-9, 2025</h3><h2 style="text-align: center;"><a href="https://www.privacysecurityacademy.com/psf-spring-academy-registration/" target="_blank">REGISTER</a></h2><p style="text-align: left;">Our typical audience comprises CPOs, CISOs, corporate in-house counsel, privacy/technology/security outside counsel, service providers, policymakers, and academics.&nbsp;This is the opportunity to develop business, reconnect with clients, catch up with prospects, and gain exposure in the privacy and security community.</p><p style="text-align: left;">They are bringing together the most seasoned thought leaders in the areas of privacy and security law. Depth + Rigor Rigorous deep-dive sessions that deliver hands-on activities practical takeaways for conference participants.</p>
X-ALT-DESC;FMTTYPE=text/html:<p style="text-align: center;"></p><h3 style="text-align: center;">Spring Academy</h3><h3 style="text-align: center;">May 7-9, 2025</h3><h2 style="text-align: center;"><a href="https://www.privacysecurityacademy.com/psf-spring-academy-registration/" target="_blank">REGISTER</a></h2><p style="text-align: left;">Our typical audience comprises CPOs, CISOs, corporate in-house counsel, privacy/technology/security outside counsel, service providers, policymakers, and academics.&nbsp;This is the opportunity to develop business, reconnect with clients, catch up with prospects, and gain exposure in the privacy and security community.</p><p style="text-align: left;">They are bringing together the most seasoned thought leaders in the areas of privacy and security law. Depth + Rigor Rigorous deep-dive sessions that deliver hands-on activities practical takeaways for conference participants.</p>
LOCATION:George Washington University\, 800 21st St NW Washington\, District of Columbia 
CLASS:PUBLIC
END:VEVENT
END:VCALENDAR
