BEGIN:VCALENDAR
VERSION:2.0
PRODID:NCyTE Center Calendar Creator
METHOD:PUBLISH
BEGIN:VEVENT
DTSTAMP:20250117T134148
DTSTART:20250402T080000
DTEND:20250405T170000
SUMMARY:Women in Cybersecurity Conference
DESCRIPTION:<p style="text-align: center;">&nbsp;</p><p style="text-align: center;"></p><h2 style="text-align: center;">April 2 -5, 2025</h2><h2 style="text-align: center;">Dallas, Texas</h2><p>The WiCyS conference is the premier event to RECRUIT, RETAIN and ADVANCE women in cybersecurity— all while creating a community of engagement, encouragement and support at a technical conference for women and allies. WiCyS brings together women and allies in cybersecurity from academia, research, government, and industry.</p><p>Conference components include: Keynote Speakers, Technical Presentations, Workshops, Panels, Lightning Talks, Networking Socials, Résumé Reviews, Mock Interviews, Professional Headshots, Career Fair for organizations to hire professionals and students, Capture-the-Flag Competition, Breakfast to honor military and more.</p><p>For conference related inquiries email&nbsp;<a href="mailto:&#99;&#111;&#110;&#102;&#101;&#114;&#101;&#110;&#99;&#101;&#64;&#119;&#105;&#99;&#121;&#115;&#46;&#111;&#114;&#103;">conference@wicys.org</a>.</p>
X-ALT-DESC;FMTTYPE=text/html:<p style="text-align: center;">&nbsp;</p><p style="text-align: center;"></p><h2 style="text-align: center;">April 2 -5, 2025</h2><h2 style="text-align: center;">Dallas, Texas</h2><p>The WiCyS conference is the premier event to RECRUIT, RETAIN and ADVANCE women in cybersecurity— all while creating a community of engagement, encouragement and support at a technical conference for women and allies. WiCyS brings together women and allies in cybersecurity from academia, research, government, and industry.</p><p>Conference components include: Keynote Speakers, Technical Presentations, Workshops, Panels, Lightning Talks, Networking Socials, Résumé Reviews, Mock Interviews, Professional Headshots, Career Fair for organizations to hire professionals and students, Capture-the-Flag Competition, Breakfast to honor military and more.</p><p>For conference related inquiries email&nbsp;<a href="mailto:&#99;&#111;&#110;&#102;&#101;&#114;&#101;&#110;&#99;&#101;&#64;&#119;&#105;&#99;&#121;&#115;&#46;&#111;&#114;&#103;">conference@wicys.org</a>.</p>
LOCATION:
CLASS:PUBLIC
END:VEVENT
END:VCALENDAR
