BEGIN:VCALENDAR
VERSION:2.0
PRODID:NCyTE Center Calendar Creator
METHOD:PUBLISH
BEGIN:VEVENT
DTSTAMP:20250117T133314
DTSTART:20250317T080000
DTEND:20250330T170000
SUMMARY:ADMI 2025 Symposium
DESCRIPTION:<p style="text-align: center;"></p><p style="text-align: center;">Embassy Suites Charlotte</p><p style="text-align: center;">4800 South Tryon Street</p><p style="text-align: center;">Charlotte, NC&nbsp;&nbsp;</p><p style="text-align: center;">&nbsp;</p><p style="text-align: left;">The Association of Computer Science Departments at Minority Institutions (ADMI) is hosting a symposium devoted to computing issues relevant to minority students, education and institutions. This 2025 Symposium will be held in-person and will highlight undergraduate and graduate research with particular interest on innovations in the computing field. The theme of this year's symposium is&nbsp;<strong><i>Enhancing AI Capacity at Minority Serving Institutions</i></strong>.</p><h2 style="text-align: center;"><a href="https://www.admiusa.org/admi2025/register.php" target="_blank">Register to Attend</a></h2><p style="text-align: center;">&nbsp;</p>
X-ALT-DESC;FMTTYPE=text/html:<p style="text-align: center;"></p><p style="text-align: center;">Embassy Suites Charlotte</p><p style="text-align: center;">4800 South Tryon Street</p><p style="text-align: center;">Charlotte, NC&nbsp;&nbsp;</p><p style="text-align: center;">&nbsp;</p><p style="text-align: left;">The Association of Computer Science Departments at Minority Institutions (ADMI) is hosting a symposium devoted to computing issues relevant to minority students, education and institutions. This 2025 Symposium will be held in-person and will highlight undergraduate and graduate research with particular interest on innovations in the computing field. The theme of this year's symposium is&nbsp;<strong><i>Enhancing AI Capacity at Minority Serving Institutions</i></strong>.</p><h2 style="text-align: center;"><a href="https://www.admiusa.org/admi2025/register.php" target="_blank">Register to Attend</a></h2><p style="text-align: center;">&nbsp;</p>
LOCATION:Embassy Suites by Hilton Charlotte\, 4800 South Tryon Street Charlotte\, North Carolina 28217
CLASS:PUBLIC
END:VEVENT
END:VCALENDAR
