BEGIN:VCALENDAR
VERSION:2.0
PRODID:NCyTE Center Calendar Creator
METHOD:PUBLISH
BEGIN:VEVENT
DTSTAMP:20250121T095124
DTSTART:20250221T090000
DTEND:20250221T100000
SUMMARY:NCyTE Monthly Meeting
DESCRIPTION:<p align="center"><strong>&nbsp;</strong></p><p align="center"><strong>Cloud Computing Security and AI<br>February 21, 2025</strong></p><p align="center">9:00 am PST | Virtual</p><p>&nbsp;</p><h2 style="text-align: center;"><a href="	https://ncytecenter.wildapricot.org/event-6027749 " target="_blank">Register</a></h2><p>What are the AI risks in cloud computing? What standards and risk mitigation has Cloud Security Alliance (CSA) developed and implemented for cloud services within CSA and industry? What other CSA AI/Cybersecurity resources are available to academia and students?</p><p>Jim Reavis,&nbsp;Co-founder &amp; CEO, Cloud Security Alliance (CSA), will join us to answer some of the most perplexing questions at the intersection of AI and cloud computing.</p><p>Learn more about Jim at&nbsp;<a href="https://www.ncyte.net/Home/Components/StaffDirectory/StaffDirectory/40/24" target="_blank">Reavis, Jim | Directory | NCyTE Center</a>.&nbsp;</p>
X-ALT-DESC;FMTTYPE=text/html:<p align="center"><strong>&nbsp;</strong></p><p align="center"><strong>Cloud Computing Security and AI<br>February 21, 2025</strong></p><p align="center">9:00 am PST | Virtual</p><p>&nbsp;</p><h2 style="text-align: center;"><a href="	https://ncytecenter.wildapricot.org/event-6027749 " target="_blank">Register</a></h2><p>What are the AI risks in cloud computing? What standards and risk mitigation has Cloud Security Alliance (CSA) developed and implemented for cloud services within CSA and industry? What other CSA AI/Cybersecurity resources are available to academia and students?</p><p>Jim Reavis,&nbsp;Co-founder &amp; CEO, Cloud Security Alliance (CSA), will join us to answer some of the most perplexing questions at the intersection of AI and cloud computing.</p><p>Learn more about Jim at&nbsp;<a href="https://www.ncyte.net/Home/Components/StaffDirectory/StaffDirectory/40/24" target="_blank">Reavis, Jim | Directory | NCyTE Center</a>.&nbsp;</p>
LOCATION:
CLASS:PUBLIC
END:VEVENT
END:VCALENDAR
