BEGIN:VCALENDAR
VERSION:2.0
PRODID:NCyTE Center Calendar Creator
METHOD:PUBLISH
BEGIN:VEVENT
DTSTAMP:20241231T134853
DTSTART:20250619T080000
DTEND:20250619T170000
SUMMARY:College Closed - Juneteenth
DESCRIPTION:<p style="text-align: center;">NCyTE Center at Whatcom Community College will be closed for the federal holiday -Juneteenth</p>
X-ALT-DESC;FMTTYPE=text/html:<p style="text-align: center;">NCyTE Center at Whatcom Community College will be closed for the federal holiday -Juneteenth</p>
LOCATION:
CLASS:PUBLIC
END:VEVENT
END:VCALENDAR
