BEGIN:VCALENDAR
VERSION:2.0
PRODID:NCyTE Center Calendar Creator
METHOD:PUBLISH
BEGIN:VEVENT
DTSTAMP:20250407T152709
DTSTART:20250418T090000
DTEND:20250418T100000
SUMMARY:NCyTE Monthly Meeting
DESCRIPTION:<p style="text-align: center;"></p><h1 align="center">Supercomputing Resources for Higher Education</h1><p style="text-align: center;">Monthly Meeting - Virtual</p><p style="text-align: center;">April 18, 2025</p><p style="text-align: center;">9:00 AM - 10:00 AM PST</p><h2 style="text-align: center;"><a href="	https://ncytecenter.wildapricot.org/event-6133833 " target="_blank">REGISTER&nbsp;</a></h2><p align="left"><strong><strong>Join us at the April NCyTE Monthly Meeting!</strong></strong></p><p data-start="1376" data-end="1699">The impact of the&nbsp;Building Research Innovation at Community Colleges (BRICCs)&nbsp;initiative is substantial, offering a national platform to tackle campus computing challenges. The resulting strategies and computing plans are anticipated to enhance research and education initiatives at two-year colleges, paving the way for future computing programs and a highly skilled research workforce.</p><p data-start="262" data-end="623">Panelists:</p><ul>    <li>Tabitha Samuel, Co-Principal Investigator, National Institute for Computational Sciences</li>    <li>Dhruva Chakravorty, Principal Investigator, Texas A&amp;M University</li>    <li>Dr. Sallie Kay Janes, Vice Chancellor, San Jacinto College</li></ul><p data-start="262" data-end="623">Get more information on <a href="https://hprc.tamu.edu/briccs/briccs_rdm.html" target="_blank">BRICCS&nbsp;</a>&nbsp;</p>
X-ALT-DESC;FMTTYPE=text/html:<p style="text-align: center;"></p><h1 align="center">Supercomputing Resources for Higher Education</h1><p style="text-align: center;">Monthly Meeting - Virtual</p><p style="text-align: center;">April 18, 2025</p><p style="text-align: center;">9:00 AM - 10:00 AM PST</p><h2 style="text-align: center;"><a href="	https://ncytecenter.wildapricot.org/event-6133833 " target="_blank">REGISTER&nbsp;</a></h2><p align="left"><strong><strong>Join us at the April NCyTE Monthly Meeting!</strong></strong></p><p data-start="1376" data-end="1699">The impact of the&nbsp;Building Research Innovation at Community Colleges (BRICCs)&nbsp;initiative is substantial, offering a national platform to tackle campus computing challenges. The resulting strategies and computing plans are anticipated to enhance research and education initiatives at two-year colleges, paving the way for future computing programs and a highly skilled research workforce.</p><p data-start="262" data-end="623">Panelists:</p><ul>    <li>Tabitha Samuel, Co-Principal Investigator, National Institute for Computational Sciences</li>    <li>Dhruva Chakravorty, Principal Investigator, Texas A&amp;M University</li>    <li>Dr. Sallie Kay Janes, Vice Chancellor, San Jacinto College</li></ul><p data-start="262" data-end="623">Get more information on <a href="https://hprc.tamu.edu/briccs/briccs_rdm.html" target="_blank">BRICCS&nbsp;</a>&nbsp;</p>
LOCATION:Virtual\, 
CLASS:PUBLIC
END:VEVENT
END:VCALENDAR
