BEGIN:VCALENDAR
VERSION:2.0
PRODID:NCyTE Center Calendar Creator
METHOD:PUBLISH
BEGIN:VEVENT
DTSTAMP:20241231T131739
DTSTART:20250802T080000
DTEND:20250807T170000
SUMMARY:Black Hat USA
DESCRIPTION:<h1 style="text-align: center;">&nbsp;Black Hat USA</h1><p style="text-align: center;">August 2- 7, 2025</p><p style="text-align: center;"><span style="text-align: left;">&nbsp;</span></p><p>A legend in the field going back 25+ years, Black Hat is the premier meet up of security engineers, developers, ethical hackers and leading companies. At this event, you can expect the absolute latest and biggest InfoSec research, development and trends. Spread over nearly a week, it usually follows a pattern of:</p><p>&nbsp;</p><p>Up to four days dedicated to hands-on and technical trainings Two days of main conference events including briefings, Business Hall, Arsenal and more This setup enables attendees to network with InfoSec professionals from all corners and evaluate a whole slew of products, solutions and services on display that might just suit your needs. And don’t worry, we’ll certainly update our Black Hat Guide for the next event!</p><h2 style="text-align: center;"><a href="https://blackhat.informatech.com/usa/2024/?" target="_blank">REGISTER</a></h2>
X-ALT-DESC;FMTTYPE=text/html:<h1 style="text-align: center;">&nbsp;Black Hat USA</h1><p style="text-align: center;">August 2- 7, 2025</p><p style="text-align: center;"><span style="text-align: left;">&nbsp;</span></p><p>A legend in the field going back 25+ years, Black Hat is the premier meet up of security engineers, developers, ethical hackers and leading companies. At this event, you can expect the absolute latest and biggest InfoSec research, development and trends. Spread over nearly a week, it usually follows a pattern of:</p><p>&nbsp;</p><p>Up to four days dedicated to hands-on and technical trainings Two days of main conference events including briefings, Business Hall, Arsenal and more This setup enables attendees to network with InfoSec professionals from all corners and evaluate a whole slew of products, solutions and services on display that might just suit your needs. And don’t worry, we’ll certainly update our Black Hat Guide for the next event!</p><h2 style="text-align: center;"><a href="https://blackhat.informatech.com/usa/2024/?" target="_blank">REGISTER</a></h2>
LOCATION:Mandalay Bay\, 3950 Las Vegas Boulevard South Las Vegas\, Nevada 89119
CLASS:PUBLIC
END:VEVENT
END:VCALENDAR
