BEGIN:VCALENDAR
VERSION:2.0
PRODID:NCyTE Center Calendar Creator
METHOD:PUBLISH
BEGIN:VEVENT
DTSTAMP:20241231T130905
DTSTART:20250601T080000
DTEND:20250604T170000
SUMMARY:NICE Conference & Expo: CLIMBING HIGHER -Educating & Sustaining a Resilient Cybersecurity Workforce
DESCRIPTION:<h1 style="text-align: center;">NICE Conference</h1><p style="text-align: center;">June 1- 4, 2025</p><p style="text-align: left;">This year’s conference theme “Climbing Higher: Educating &amp; Sustaining a Resilient Cybersecurity Workforce” highlights the urgency of strengthening and expanding the cybersecurity workforce. By collaborating with key partners, we aim to tackle current challenges and ensure a secure future.</p><h2 style="text-align: center;"><a href="https://niceconference.org/registration-landing/" target="_blank">REGISTER</a></h2><p style="text-align: center;"></p>
X-ALT-DESC;FMTTYPE=text/html:<h1 style="text-align: center;">NICE Conference</h1><p style="text-align: center;">June 1- 4, 2025</p><p style="text-align: left;">This year’s conference theme “Climbing Higher: Educating &amp; Sustaining a Resilient Cybersecurity Workforce” highlights the urgency of strengthening and expanding the cybersecurity workforce. By collaborating with key partners, we aim to tackle current challenges and ensure a secure future.</p><h2 style="text-align: center;"><a href="https://niceconference.org/registration-landing/" target="_blank">REGISTER</a></h2><p style="text-align: center;"></p>
LOCATION:Denver Marriott Tech Center\, 4900 S. Syracruse Street Denver\, Colorado 80273
CLASS:PUBLIC
END:VEVENT
END:VCALENDAR
