BEGIN:VCALENDAR
VERSION:2.0
PRODID:NCyTE Center Calendar Creator
METHOD:PUBLISH
BEGIN:VEVENT
DTSTAMP:20241231T130345
DTSTART:20250512T080000
DTEND:20250515T170000
SUMMARY:46th IEEE Symposium on Security and Privacy
DESCRIPTION:<h1 style="text-align: center;">46th IEEE Symposium on&nbsp;Security and Privacy</h1><p style="text-align: center;">May 12 - 14, 2025</p><p style="text-align: center;">Since 1980, the IEEE Symposium on Security and Privacy has been the premier forum for presenting developments in computer security and electronic privacy, and for bringing together researchers and practitioners in the field. The 2025 Symposium will mark the 46th&nbsp;annual meeting of this flagship conference.</p><h2 style="text-align: center;"><a href="https://www.ieee-security.org/TC/SP2025/index.html" target="_blank">More Information</a></h2><p style="text-align: center;"></p>
X-ALT-DESC;FMTTYPE=text/html:<h1 style="text-align: center;">46th IEEE Symposium on&nbsp;Security and Privacy</h1><p style="text-align: center;">May 12 - 14, 2025</p><p style="text-align: center;">Since 1980, the IEEE Symposium on Security and Privacy has been the premier forum for presenting developments in computer security and electronic privacy, and for bringing together researchers and practitioners in the field. The 2025 Symposium will mark the 46th&nbsp;annual meeting of this flagship conference.</p><h2 style="text-align: center;"><a href="https://www.ieee-security.org/TC/SP2025/index.html" target="_blank">More Information</a></h2><p style="text-align: center;"></p>
LOCATION:Hyatt Regency\, 5 Embarcardero Center San Francisco\, California 94111
CLASS:PUBLIC
END:VEVENT
END:VCALENDAR
