BEGIN:VCALENDAR
VERSION:2.0
PRODID:NCyTE Center Calendar Creator
METHOD:PUBLISH
BEGIN:VEVENT
DTSTAMP:20241231T125633
DTSTART:20250428T080000
DTEND:20250501T170000
SUMMARY:RSA Conference
DESCRIPTION:<h1 style="text-align: center;">RSA Conference</h1><p style="text-align: center;">April 28 - May 1, 2025</p><p style="text-align: center;">&nbsp;<span style="font-size: 25.6px; font-weight: 600;">Unite. Innovate. Shine. Join the RSAC 2025 Community.</span></p><p style="text-align: left;">At RSAC 2025, you're not just attending a conference—you're stepping into a vibrant, thriving community of thinkers, innovators, and achievers. Though we come from different corners of the cybersecurity world, we are united by a common mission: to foresee risks, counter threats, and embrace the challenges ahead. Together, we shape the future of security. Together, we shine as one.<br><br>Join us to be a part of something bigger. Many Voices. One Community.&nbsp;</p><h2 style="text-align: center;"><a href="https://www.rsaconference.com/usa/passes-and-rates" target="_blank">REGISTER</a></h2><p style="text-align: center;">&nbsp;</p><p style="text-align: center;">&nbsp;</p>
X-ALT-DESC;FMTTYPE=text/html:<h1 style="text-align: center;">RSA Conference</h1><p style="text-align: center;">April 28 - May 1, 2025</p><p style="text-align: center;">&nbsp;<span style="font-size: 25.6px; font-weight: 600;">Unite. Innovate. Shine. Join the RSAC 2025 Community.</span></p><p style="text-align: left;">At RSAC 2025, you're not just attending a conference—you're stepping into a vibrant, thriving community of thinkers, innovators, and achievers. Though we come from different corners of the cybersecurity world, we are united by a common mission: to foresee risks, counter threats, and embrace the challenges ahead. Together, we shape the future of security. Together, we shine as one.<br><br>Join us to be a part of something bigger. Many Voices. One Community.&nbsp;</p><h2 style="text-align: center;"><a href="https://www.rsaconference.com/usa/passes-and-rates" target="_blank">REGISTER</a></h2><p style="text-align: center;">&nbsp;</p><p style="text-align: center;">&nbsp;</p>
LOCATION:Moscone Center\, 701 Howard St San Francisco\, California 94103
CLASS:PUBLIC
END:VEVENT
END:VCALENDAR
