BEGIN:VCALENDAR
VERSION:2.0
PRODID:NCyTE Center Calendar Creator
METHOD:PUBLISH
BEGIN:VEVENT
DTSTAMP:20241114T124542
DTSTART:20250321T090000
DTEND:20250321T100000
SUMMARY:NCyTE Monthly Meeting
DESCRIPTION:<p style="text-align: center;"></p><p style="text-align: center;">Monthly Meeting - Virtual</p><p style="text-align: center;">March 21, 2025</p><p style="text-align: center;">9:00 AM - 10:00 AM PST</p><p style="text-align: center;">&nbsp;</p><p style="text-align: center;"><em>*Please check back for topic and registration details</em></p>
X-ALT-DESC;FMTTYPE=text/html:<p style="text-align: center;"></p><p style="text-align: center;">Monthly Meeting - Virtual</p><p style="text-align: center;">March 21, 2025</p><p style="text-align: center;">9:00 AM - 10:00 AM PST</p><p style="text-align: center;">&nbsp;</p><p style="text-align: center;"><em>*Please check back for topic and registration details</em></p>
LOCATION:
CLASS:PUBLIC
END:VEVENT
END:VCALENDAR
