BEGIN:VCALENDAR
VERSION:2.0
PRODID:NCyTE Center Calendar Creator
METHOD:PUBLISH
BEGIN:VEVENT
DTSTAMP:20241114T123834
DTSTART:20250218T080000
DTEND:20250218T170000
SUMMARY:College Closed - Professional Development Day
DESCRIPTION:<p style="text-align: center;">NCyTE Center at Whatcom Community College will be closed for an institutional Professional Development Day</p>
X-ALT-DESC;FMTTYPE=text/html:<p style="text-align: center;">NCyTE Center at Whatcom Community College will be closed for an institutional Professional Development Day</p>
LOCATION:
CLASS:PUBLIC
END:VEVENT
END:VCALENDAR
