BEGIN:VCALENDAR
VERSION:2.0
PRODID:NCyTE Center Calendar Creator
METHOD:PUBLISH
BEGIN:VEVENT
DTSTAMP:20241114T120722
DTSTART:20250117T090000
DTEND:20250117T100000
SUMMARY:NCyTE Monthly Meeting
DESCRIPTION:<p style="text-align: center;"></p><p align="center"><strong>Virtual Cybersecurity Career Challenge<br>January 17, 2024</strong></p><p align="center">9:00 am PST | Virtual</p><h2 style="text-align: center;"><a href="	https://ncytecenter.wildapricot.org/event-5946564 " target="_blank">REGISTER</a></h2><p>NCyTE's virtual Cyber Career Challenge provides students with real-world cybersecurity workforce experience. Students will work virtually in teams to configure, operate, protect, and defend a small network of machines.</p><p>Students from community colleges, technical colleges, and universities are encouraged to apply. Students have used the workshop int the past to complete an internship or co-operative education program requirement. Students should inquire at their institution about how they can turn the challenge into credits.</p><p>The information session covers the expectations, assignments, schedule, and the virtual environment. Students must attend an information session to apply for the challenge.</p><p>Eligibility</p><ul>    <li>Students must have completed introductory courses in networking and cybersecurity.&nbsp;</li>    <li>Students must attend an information session.</li>    <li>Students must complete a team commitment agreement.</li></ul><p>Schedule</p><ul>    <li>February - Workshop begins: Introduction to program work roles</li>    <li>March - Introduction to the network requirements and team selection</li>    <li>March - Network admin basics, Kanban, Gantt charts, Visio diagrams</li>    <li>March to&nbsp; May - Teams work independently and receive guidance on network management and pentest prep</li>    <li>May - Pentest</li>    <li>May - Team presentations</li></ul><p >Students work in teams of five</p><ul>    <li>Develop a project plan for an Information System that supports a fictitious business.</li>    <li>Utilize project management tools for communication and project implementation.</li>    <li>Operate a network of nine devices within the technical requirements specified.</li>    <li>&nbsp;Defend their network against a penetration test.</li>    <li>Analyze the network for any evidence of attacks or compromise resulting from penetration testing.</li>    <li>Present their approach to operating the network and findings from the penetration test</li></ul><p>&nbsp;<hr></p><p></p><p>&nbsp;NCyTE is funded by National Science Foundation, ATE grant number 2054724</p>
X-ALT-DESC;FMTTYPE=text/html:<p style="text-align: center;"></p><p align="center"><strong>Virtual Cybersecurity Career Challenge<br>January 17, 2024</strong></p><p align="center">9:00 am PST | Virtual</p><h2 style="text-align: center;"><a href="	https://ncytecenter.wildapricot.org/event-5946564 " target="_blank">REGISTER</a></h2><p>NCyTE's virtual Cyber Career Challenge provides students with real-world cybersecurity workforce experience. Students will work virtually in teams to configure, operate, protect, and defend a small network of machines.</p><p>Students from community colleges, technical colleges, and universities are encouraged to apply. Students have used the workshop int the past to complete an internship or co-operative education program requirement. Students should inquire at their institution about how they can turn the challenge into credits.</p><p>The information session covers the expectations, assignments, schedule, and the virtual environment. Students must attend an information session to apply for the challenge.</p><p>Eligibility</p><ul>    <li>Students must have completed introductory courses in networking and cybersecurity.&nbsp;</li>    <li>Students must attend an information session.</li>    <li>Students must complete a team commitment agreement.</li></ul><p>Schedule</p><ul>    <li>February - Workshop begins: Introduction to program work roles</li>    <li>March - Introduction to the network requirements and team selection</li>    <li>March - Network admin basics, Kanban, Gantt charts, Visio diagrams</li>    <li>March to&nbsp; May - Teams work independently and receive guidance on network management and pentest prep</li>    <li>May - Pentest</li>    <li>May - Team presentations</li></ul><p >Students work in teams of five</p><ul>    <li>Develop a project plan for an Information System that supports a fictitious business.</li>    <li>Utilize project management tools for communication and project implementation.</li>    <li>Operate a network of nine devices within the technical requirements specified.</li>    <li>&nbsp;Defend their network against a penetration test.</li>    <li>Analyze the network for any evidence of attacks or compromise resulting from penetration testing.</li>    <li>Present their approach to operating the network and findings from the penetration test</li></ul><p>&nbsp;<hr></p><p></p><p>&nbsp;NCyTE is funded by National Science Foundation, ATE grant number 2054724</p>
LOCATION:
CLASS:PUBLIC
END:VEVENT
END:VCALENDAR
