BEGIN:VCALENDAR
VERSION:2.0
PRODID:NCyTE Center Calendar Creator
METHOD:PUBLISH
BEGIN:VEVENT
DTSTAMP:20241114T115136
DTSTART:20250128T080000
DTEND:20250131T170000
SUMMARY:AACC Workforce Development Institute
DESCRIPTION:<p style="text-align: center;"></p><p style="text-align: center;">The American Association of Community Colleges and their Workforce Development Institute will be hosting their annual conference with the theme : Uncharted Courses on&nbsp;</p><p style="text-align: center;"><span style="text-align: left;">1/28/2025-1/31/2025</span></p><p style="text-align: center;"><span style="text-align: left;">&nbsp;</span><span style="text-align: left;">Loews Coronado Bay Resort,</span></p><p style="text-align: center;"><span style="text-align: left;">4000 Coronado Bay Rd</span></p><p style="text-align: center;"><span style="text-align: left;">Coronado, CA 92118</span></p><p style="text-align: center;"><span style="text-align: left;">&nbsp;</span></p><h2 style="text-align: center;"><a href="https://web.cvent.com/event/5f5c2454-c614-418a-9f37-dac6144fd6ac/summary" target="_blank">REGISTER TO ATTEND</a></h2><p style="text-align: center;"><span style="text-align: left;">&nbsp;</span><span style="text-align: left;">For information related to registration, please email WDI@aacc.nche.edu.</span></p>
X-ALT-DESC;FMTTYPE=text/html:<p style="text-align: center;"></p><p style="text-align: center;">The American Association of Community Colleges and their Workforce Development Institute will be hosting their annual conference with the theme : Uncharted Courses on&nbsp;</p><p style="text-align: center;"><span style="text-align: left;">1/28/2025-1/31/2025</span></p><p style="text-align: center;"><span style="text-align: left;">&nbsp;</span><span style="text-align: left;">Loews Coronado Bay Resort,</span></p><p style="text-align: center;"><span style="text-align: left;">4000 Coronado Bay Rd</span></p><p style="text-align: center;"><span style="text-align: left;">Coronado, CA 92118</span></p><p style="text-align: center;"><span style="text-align: left;">&nbsp;</span></p><h2 style="text-align: center;"><a href="https://web.cvent.com/event/5f5c2454-c614-418a-9f37-dac6144fd6ac/summary" target="_blank">REGISTER TO ATTEND</a></h2><p style="text-align: center;"><span style="text-align: left;">&nbsp;</span><span style="text-align: left;">For information related to registration, please email WDI@aacc.nche.edu.</span></p>
LOCATION:
CLASS:PUBLIC
END:VEVENT
END:VCALENDAR
