BEGIN:VCALENDAR
VERSION:2.0
PRODID:NCyTE Center Calendar Creator
METHOD:PUBLISH
BEGIN:VEVENT
DTSTAMP:20241114T113558
DTSTART:20251127T080000
DTEND:20251127T170000
SUMMARY:College Closed - Thanksgiving
DESCRIPTION:<p style="text-align: center;">NCyTE Center at Whatcom Community College will be closed for the federal holiday -Thanksgiving</p>
X-ALT-DESC;FMTTYPE=text/html:<p style="text-align: center;">NCyTE Center at Whatcom Community College will be closed for the federal holiday -Thanksgiving</p>
LOCATION:
CLASS:PUBLIC
END:VEVENT
END:VCALENDAR
