BEGIN:VCALENDAR
VERSION:2.0
PRODID:NCyTE Center Calendar Creator
METHOD:PUBLISH
BEGIN:VEVENT
DTSTAMP:20241114T112412
DTSTART:20250704T080000
DTEND:20250704T170000
SUMMARY:College Closed - Independence Day
DESCRIPTION:<p style="text-align: center;">NCyTE Center at Whatcom Community College will be closed for the federal holiday - Independence Day</p>
X-ALT-DESC;FMTTYPE=text/html:<p style="text-align: center;">NCyTE Center at Whatcom Community College will be closed for the federal holiday - Independence Day</p>
LOCATION:
CLASS:PUBLIC
END:VEVENT
END:VCALENDAR
