BEGIN:VCALENDAR
VERSION:2.0
PRODID:NCyTE Center Calendar Creator
METHOD:PUBLISH
BEGIN:VEVENT
DTSTAMP:20240819T103725
DTSTART:20230717T090000
DTEND:20230721T150000
SUMMARY:Gencyber Camp
DESCRIPTION:<p align="center"><strong>&nbsp;</strong></p><p align="center"><strong>GenCyber Camp&nbsp;</strong></p><p align="center">Northwest Indian College</p><p align="center">&nbsp;July 17- 21, 2023</p><p align="center">9:00am - 3:00pm&nbsp;</p><p>Attention all aspiring cyber defenders!</p><p>Whatcom Community College is excited to announce our upcoming GenCyber&nbsp; camp at Northwest Indian College on July 17-21, 2023 9:00am - 3:00pm. This camp is designed for middle school and high school students who have an interest in technology and protecting information.&nbsp;</p><p>Join us for a day of fun and learning as we explore the world of cybersecurity. During the camp, you will have the opportunity to participate in hands-on activities that will explore a wide range of topics related to cybersecurity. You'll learn about different types of cyber threats, how to identify them, and how to prevent them from happening. We'll also cover topics such as password security, online privacy, and safe browsing practices.</p><p>Don't miss out on this exciting opportunity to learn about cybersecurity and have fun with like-minded peers!&nbsp;We look forward to seeing you at the camp!</p><p style="text-align: center;"><a href="	https://ncytecenter.wildapricot.org/event-5270790 " target="_blank">REGISTER</a></p>
X-ALT-DESC;FMTTYPE=text/html:<p align="center"><strong>&nbsp;</strong></p><p align="center"><strong>GenCyber Camp&nbsp;</strong></p><p align="center">Northwest Indian College</p><p align="center">&nbsp;July 17- 21, 2023</p><p align="center">9:00am - 3:00pm&nbsp;</p><p>Attention all aspiring cyber defenders!</p><p>Whatcom Community College is excited to announce our upcoming GenCyber&nbsp; camp at Northwest Indian College on July 17-21, 2023 9:00am - 3:00pm. This camp is designed for middle school and high school students who have an interest in technology and protecting information.&nbsp;</p><p>Join us for a day of fun and learning as we explore the world of cybersecurity. During the camp, you will have the opportunity to participate in hands-on activities that will explore a wide range of topics related to cybersecurity. You'll learn about different types of cyber threats, how to identify them, and how to prevent them from happening. We'll also cover topics such as password security, online privacy, and safe browsing practices.</p><p>Don't miss out on this exciting opportunity to learn about cybersecurity and have fun with like-minded peers!&nbsp;We look forward to seeing you at the camp!</p><p style="text-align: center;"><a href="	https://ncytecenter.wildapricot.org/event-5270790 " target="_blank">REGISTER</a></p>
LOCATION:Northwest Indian College\, 2522 Kwina Rd. Bellingham\, Washington 98226
CLASS:PUBLIC
END:VEVENT
END:VCALENDAR
