BEGIN:VCALENDAR
VERSION:2.0
PRODID:NCyTE Center Calendar Creator
METHOD:PUBLISH
BEGIN:VEVENT
DTSTAMP:20240819T103723
DTSTART:20240127T080000
DTEND:20240127T100000
SUMMARY:Network Security [Used to be CCNA Security] Workshop
DESCRIPTION:<p>&nbsp; &nbsp; &nbsp; &nbsp; &nbsp; &nbsp; &nbsp; &nbsp; &nbsp; &nbsp; &nbsp; &nbsp; &nbsp; &nbsp; &nbsp; &nbsp; &nbsp; &nbsp; &nbsp; &nbsp; &nbsp; &nbsp; &nbsp; &nbsp; &nbsp; &nbsp; &nbsp; &nbsp; &nbsp; &nbsp; &nbsp; &nbsp; &nbsp; &nbsp; &nbsp; &nbsp; &nbsp; &nbsp; &nbsp; &nbsp; &nbsp; &nbsp; &nbsp; &nbsp;&nbsp;&nbsp; &nbsp; &nbsp; &nbsp; &nbsp; &nbsp; &nbsp; &nbsp; &nbsp;&nbsp;</p><h1 style="text-align: center;">Network Security [Used to be CCNA Security] Workshop</h1><p style="text-align: center;">&nbsp;January 27 - February 24, 2024</p><p style="text-align: center;"><em>Saturday Mornings for 2 hours each</em></p><p style="text-align: center;"><em>&nbsp;</em></p><p style="text-align: center;">For more information about this workshop please contact Anna Ritchey at ARitchey@whatcom.edu&nbsp;</p><p style="text-align: center;"><em><hr></em></p><p style="text-align: left;"></p><p style="text-align: left;">&nbsp;</p><p style="text-align: left;">Training for this workshop provided by Western Academy Support &amp; Training Center</p><p style="text-align: left;"><em>&nbsp;</em></p>
X-ALT-DESC;FMTTYPE=text/html:<p>&nbsp; &nbsp; &nbsp; &nbsp; &nbsp; &nbsp; &nbsp; &nbsp; &nbsp; &nbsp; &nbsp; &nbsp; &nbsp; &nbsp; &nbsp; &nbsp; &nbsp; &nbsp; &nbsp; &nbsp; &nbsp; &nbsp; &nbsp; &nbsp; &nbsp; &nbsp; &nbsp; &nbsp; &nbsp; &nbsp; &nbsp; &nbsp; &nbsp; &nbsp; &nbsp; &nbsp; &nbsp; &nbsp; &nbsp; &nbsp; &nbsp; &nbsp; &nbsp; &nbsp;&nbsp;&nbsp; &nbsp; &nbsp; &nbsp; &nbsp; &nbsp; &nbsp; &nbsp; &nbsp;&nbsp;</p><h1 style="text-align: center;">Network Security [Used to be CCNA Security] Workshop</h1><p style="text-align: center;">&nbsp;January 27 - February 24, 2024</p><p style="text-align: center;"><em>Saturday Mornings for 2 hours each</em></p><p style="text-align: center;"><em>&nbsp;</em></p><p style="text-align: center;">For more information about this workshop please contact Anna Ritchey at ARitchey@whatcom.edu&nbsp;</p><p style="text-align: center;"><em><hr></em></p><p style="text-align: left;"></p><p style="text-align: left;">&nbsp;</p><p style="text-align: left;">Training for this workshop provided by Western Academy Support &amp; Training Center</p><p style="text-align: left;"><em>&nbsp;</em></p>
LOCATION:Virtual\, 
CLASS:PUBLIC
END:VEVENT
END:VCALENDAR
