BEGIN:VCALENDAR
VERSION:2.0
PRODID:NCyTE Center Calendar Creator
METHOD:PUBLISH
BEGIN:VEVENT
DTSTAMP:20240723T120028
DTSTART:20240918T070000
DTEND:20240918T160000
SUMMARY:College Closed - ALL COLLEGE DAY
DESCRIPTION:Opening Week marks the start of the new academic year for Whatcom Community College, bringing our campus community together for updates, initiatives, professional development, and connections.
X-ALT-DESC;FMTTYPE=text/html:Opening Week marks the start of the new academic year for Whatcom Community College, bringing our campus community together for updates, initiatives, professional development, and connections.
LOCATION:
CLASS:PUBLIC
END:VEVENT
END:VCALENDAR
