BEGIN:VCALENDAR
VERSION:2.0
PRODID:NCyTE Center Calendar Creator
METHOD:PUBLISH
BEGIN:VEVENT
DTSTAMP:20240723T115257
DTSTART:20241022T000000
DTEND:20241025T235900
SUMMARY:ATE PI Conference
DESCRIPTION:<h3 style="text-align: center;">October 23-25, 2024<br>Omni Shoreham Hotel<br>Washington, DC</h3><p style="text-align: center;"></p><p>&nbsp;The&nbsp;<a href="https://www.aacc.nche.edu/">American Association of Community Colleges</a>, with the support of the&nbsp;<a href="https://www.nsf.gov/" rel="noopener" target="_blank">U.S. National Science Foundation</a>&nbsp;(NSF), brings together more than 850 NSF ATE grantees and their project partners to focus on the critical issues related to advanced technological education. Key people working on ATE projects across the country will participate in the event. Conference participants represent community colleges, business and industry, secondary school systems, and four-year colleges covering projects in a wide variety of areas, such as information technology, engineering technology, micro- and nanotechnologies, chemical technology, biotechnology, and others.</p><p style="text-align: center;">To find more information:&nbsp;https://www.atepiconference.com/</p><p>&nbsp;</p>
X-ALT-DESC;FMTTYPE=text/html:<h3 style="text-align: center;">October 23-25, 2024<br>Omni Shoreham Hotel<br>Washington, DC</h3><p style="text-align: center;"></p><p>&nbsp;The&nbsp;<a href="https://www.aacc.nche.edu/">American Association of Community Colleges</a>, with the support of the&nbsp;<a href="https://www.nsf.gov/" rel="noopener" target="_blank">U.S. National Science Foundation</a>&nbsp;(NSF), brings together more than 850 NSF ATE grantees and their project partners to focus on the critical issues related to advanced technological education. Key people working on ATE projects across the country will participate in the event. Conference participants represent community colleges, business and industry, secondary school systems, and four-year colleges covering projects in a wide variety of areas, such as information technology, engineering technology, micro- and nanotechnologies, chemical technology, biotechnology, and others.</p><p style="text-align: center;">To find more information:&nbsp;https://www.atepiconference.com/</p><p>&nbsp;</p>
LOCATION:Washington D.C.\, 
CLASS:PUBLIC
END:VEVENT
END:VCALENDAR
