BEGIN:VCALENDAR
VERSION:2.0
PRODID:NCyTE Center Calendar Creator
METHOD:PUBLISH
BEGIN:VEVENT
DTSTAMP:20240723T110856
DTSTART:20241003T000000
DTEND:20241005T235900
SUMMARY:AISES Conference
DESCRIPTION:<h2 style="text-align: center;">AISES Conference</h2><h2 style="text-align: center;">October 3, 2024 - October 5, 2024</h2><h2 style="text-align: center;">San Antonio, TX&nbsp;</h2><p style="text-align: left;">The Annual AISES National Conference is a unique, three-day event focusing on educational, professional, and workforce development for Indigenous peoples of North America and the Pacific Islands in science, technology, engineering, and math (STEM) studies and careers.&nbsp;</p><p style="text-align: center;">&nbsp;<a href="https://events.aises.org/ereg/index.php?eventid=782781&amp;" target="_blank" style="font-size: 25.6px; font-weight: 600; text-align: center;">REGISTER</a></p><p style="text-align: left;">&nbsp;</p>
X-ALT-DESC;FMTTYPE=text/html:<h2 style="text-align: center;">AISES Conference</h2><h2 style="text-align: center;">October 3, 2024 - October 5, 2024</h2><h2 style="text-align: center;">San Antonio, TX&nbsp;</h2><p style="text-align: left;">The Annual AISES National Conference is a unique, three-day event focusing on educational, professional, and workforce development for Indigenous peoples of North America and the Pacific Islands in science, technology, engineering, and math (STEM) studies and careers.&nbsp;</p><p style="text-align: center;">&nbsp;<a href="https://events.aises.org/ereg/index.php?eventid=782781&amp;" target="_blank" style="font-size: 25.6px; font-weight: 600; text-align: center;">REGISTER</a></p><p style="text-align: left;">&nbsp;</p>
LOCATION:San Antonio\, TX\, 
CLASS:PUBLIC
END:VEVENT
END:VCALENDAR
