BEGIN:VCALENDAR
VERSION:2.0
PRODID:NCyTE Center Calendar Creator
METHOD:PUBLISH
BEGIN:VEVENT
DTSTAMP:20240806T104802
DTSTART:20240927T000000
DTEND:20240927T235900
SUMMARY:National Cybersecurity Virtual Career Fair
DESCRIPTION:<p style="text-align: center;"></p><p style="text-align: center;">Virtual&nbsp; 9:00 am - 1:00 pm PST</p><p style="text-align: center;">September 27, 2024</p><h2><strong>FREE for Employers to Attend!</strong></h2><p><b data-stringify-type="bold"><em>Looking to hire top cyber talent? Register now to receive information on how to become an exhibitor for free!</em></b></p><p><b data-stringify-type="bold"><em>The National Cybersecurity Training and Education (NCyTE) Center and the Centers of Academic Excellence (CAE) in Cybersecurity Community are hosting the eighth annual National Cybersecurity Virtual Career Fair (VCF), on September 27, 2024, from 9:00 am-1:00 pm PT (12-4pm ET).</em></b></p><p>As the CAE in Cybersecurity program continues to designate new CAEs, the number of students participating in the VCF grows each year.&nbsp;<em><strong>Last year, over 1100&nbsp;students and&nbsp;alumni participated in the virtual career fair.&nbsp;</strong></em>Employers from industry, government, and academia will be present seeking top cyber talent from over 450 institutions designated as Centers of Academic Excellence in Research (CAE-R), Cyber Defense (CAE-CD), and Cyber Operations (CAE-CO), and institutions in the Candidate's Program (pending approval).&nbsp;<em><strong></strong></em></p><p style="text-align: center;"><em><strong><a href="https://caecommunity.6connex.com/event/virtual/employer/login" target="_blank">Employer Registration</a></strong></em></p><p style="text-align: center;"><em><strong><strong><a href="https://caecommunity.6connex.com/event/virtual/students/login" target="_blank">Student, Alumni, or Faculty Registration</a></strong></strong></em></p><p style="text-align: center;">For more information, visit&nbsp;<a href="https://www.caecommunity.org/events/save-date-national-cybersecurity-virtual-career-fair" target="_blank">CAECommunity.org</a></p><p>&nbsp;</p>
X-ALT-DESC;FMTTYPE=text/html:<p style="text-align: center;"></p><p style="text-align: center;">Virtual&nbsp; 9:00 am - 1:00 pm PST</p><p style="text-align: center;">September 27, 2024</p><h2><strong>FREE for Employers to Attend!</strong></h2><p><b data-stringify-type="bold"><em>Looking to hire top cyber talent? Register now to receive information on how to become an exhibitor for free!</em></b></p><p><b data-stringify-type="bold"><em>The National Cybersecurity Training and Education (NCyTE) Center and the Centers of Academic Excellence (CAE) in Cybersecurity Community are hosting the eighth annual National Cybersecurity Virtual Career Fair (VCF), on September 27, 2024, from 9:00 am-1:00 pm PT (12-4pm ET).</em></b></p><p>As the CAE in Cybersecurity program continues to designate new CAEs, the number of students participating in the VCF grows each year.&nbsp;<em><strong>Last year, over 1100&nbsp;students and&nbsp;alumni participated in the virtual career fair.&nbsp;</strong></em>Employers from industry, government, and academia will be present seeking top cyber talent from over 450 institutions designated as Centers of Academic Excellence in Research (CAE-R), Cyber Defense (CAE-CD), and Cyber Operations (CAE-CO), and institutions in the Candidate's Program (pending approval).&nbsp;<em><strong></strong></em></p><p style="text-align: center;"><em><strong><a href="https://caecommunity.6connex.com/event/virtual/employer/login" target="_blank">Employer Registration</a></strong></em></p><p style="text-align: center;"><em><strong><strong><a href="https://caecommunity.6connex.com/event/virtual/students/login" target="_blank">Student, Alumni, or Faculty Registration</a></strong></strong></em></p><p style="text-align: center;">For more information, visit&nbsp;<a href="https://www.caecommunity.org/events/save-date-national-cybersecurity-virtual-career-fair" target="_blank">CAECommunity.org</a></p><p>&nbsp;</p>
LOCATION:Virtual\, 
CLASS:PUBLIC
END:VEVENT
END:VCALENDAR
