BEGIN:VCALENDAR
VERSION:2.0
PRODID:NCyTE Center Calendar Creator
METHOD:PUBLISH
BEGIN:VEVENT
DTSTAMP:20240723T094409
DTSTART:20240715T090000
DTEND:20240719T150000
SUMMARY:NWIC GenCyber Camp
DESCRIPTION:<h2 style="margin-left: 600px;"><p style="text-align: center;"></p><p style="text-align: center;"></p><p style="text-align: justify;"></p><p style="text-align: center;"></p><p style="text-align: center;"></p></h2><h2 style="text-align: center;">GenCyber Camp&nbsp;</h2><h2 align="center" style="text-align: center;">Northwest Indian College</h2><h2 align="center" style="text-align: center;">&nbsp;July 15- 19, 2024</h2><h2 align="center" style="text-align: center;">9:00am - 3:00pm&nbsp;</h2><p>Attention all aspiring cyber defenders!</p><p>Whatcom Community College is excited to announce our upcoming GenCyber&nbsp; camp at Northwest Indian College on July 15-19, 2024 9:00am - 3:00pm. This camp is designed for middle school and high school students who have an interest in technology and protecting information.&nbsp;</p><p>Join us for a week of fun and learning as we explore the world of cybersecurity. During the camp, students will have the opportunity to participate in hands-on activities that will explore a wide range of topics related to cybersecurity. They will learn about different types of cyber threats, how to identify them, and how to prevent them from happening. They will also cover topics such as password security, online privacy, and safe browsing practices.</p><p>Don't miss out on this exciting opportunity to learn about cybersecurity and have fun with like-minded peers!&nbsp;We look forward to seeing you at the camp!</p><p>&nbsp;</p><h2 style="text-align: center;"><a href="	https://ncytecenter.wildapricot.org/event-5741920 " target="_blank">Register now!</a></h2><p><abbr data-wawebkitcopymarker="1720716781834">&nbsp;</abbr>&nbsp;</p><p>This meeting is funded by a GenCyber grant # H98230-23-2-0106<abbr data-wawebkitcopymarker="1720716791705">&nbsp;</abbr></p>
X-ALT-DESC;FMTTYPE=text/html:<h2 style="margin-left: 600px;"><p style="text-align: center;"></p><p style="text-align: center;"></p><p style="text-align: justify;"></p><p style="text-align: center;"></p><p style="text-align: center;"></p></h2><h2 style="text-align: center;">GenCyber Camp&nbsp;</h2><h2 align="center" style="text-align: center;">Northwest Indian College</h2><h2 align="center" style="text-align: center;">&nbsp;July 15- 19, 2024</h2><h2 align="center" style="text-align: center;">9:00am - 3:00pm&nbsp;</h2><p>Attention all aspiring cyber defenders!</p><p>Whatcom Community College is excited to announce our upcoming GenCyber&nbsp; camp at Northwest Indian College on July 15-19, 2024 9:00am - 3:00pm. This camp is designed for middle school and high school students who have an interest in technology and protecting information.&nbsp;</p><p>Join us for a week of fun and learning as we explore the world of cybersecurity. During the camp, students will have the opportunity to participate in hands-on activities that will explore a wide range of topics related to cybersecurity. They will learn about different types of cyber threats, how to identify them, and how to prevent them from happening. They will also cover topics such as password security, online privacy, and safe browsing practices.</p><p>Don't miss out on this exciting opportunity to learn about cybersecurity and have fun with like-minded peers!&nbsp;We look forward to seeing you at the camp!</p><p>&nbsp;</p><h2 style="text-align: center;"><a href="	https://ncytecenter.wildapricot.org/event-5741920 " target="_blank">Register now!</a></h2><p><abbr data-wawebkitcopymarker="1720716781834">&nbsp;</abbr>&nbsp;</p><p>This meeting is funded by a GenCyber grant # H98230-23-2-0106<abbr data-wawebkitcopymarker="1720716791705">&nbsp;</abbr></p>
LOCATION:Northwest Indian College\, 
CLASS:PUBLIC
END:VEVENT
END:VCALENDAR
