BEGIN:VCALENDAR
VERSION:2.0
PRODID:NCyTE Center Calendar Creator
METHOD:PUBLISH
BEGIN:VEVENT
DTSTAMP:20240709T122356
DTSTART:20240915T080000
DTEND:20240918T170000
SUMMARY:2024 Annual National HBCU Week Conference
DESCRIPTION:<p style="text-align: center;">September 15-19, 2024</p><p style="text-align: center;">Philadelphia, Pennsylvania</p><p style="text-align: center;"><strong><a href="https://sites.ed.gov/whhbcu/2024-annual-national-hbcu-week-conference/" target="_blank">Registration Opens July 23, 2024</a></strong></p><p>The Initiative will host the 2024 Annual National HBCU Week Conference, “Raising the Bar: Where Excellence and Opportunity Meet,”&nbsp;<strong>September 15-19, 2024, in Philadelphia, Pennsylvania</strong>.&nbsp; Aligning with the Department’s “Raise the Bar: Lead the World” call to action, the Initiative will continue to identify and target tangible opportunities that would connect federal and private resources to the HBCU community.&nbsp; To that end, the conference will feature the sixth annual Career and Recruitment Fair, celebrate the 10-year anniversary of the HBCU Scholar Program, the always exciting Federal Agency Meet &amp; Greet, and feature 50+ sessions and workshops grouped into the following paths of engagement:</p><p><strong>Career Pathways and Economic Mobility:&nbsp;</strong>This track is designed to maximize programs, resources, and initiatives that support the recruitment of HBCU talent, human capital, and career advancement opportunities.</p><p><strong>Research and Innovation:&nbsp;</strong>This track is designed to expand research capacity and opportunities within federal agencies, private and nonprofit organizations for HBCUs. It is an opportunity to showcase innovation through partnerships that involve HBCUs, its faculty and its students.</p><p><strong>Economic Development:</strong>&nbsp;This track will provide information on how HBCUs can leverage partnerships that advance opportunities to promote the economic wealth of the HBCU and the communities they serve.</p><p><strong>STEAM:&nbsp;</strong>Exploring evidence-based tools and innovative practices in Science, Technology, Engineering, Arts and Mathematics.<strong>&nbsp;</strong></p><p><strong>Infrastructure:&nbsp;</strong>Broadening access to resources that provides equitable support to mitigate, enhance and sustain physical and technological infrastructure.</p><p><strong>Executive Leadership:&nbsp;</strong>Invitation only engagements for Presidents and their executive leadership.</p><p><strong>Emerging Leaders:&nbsp;</strong>Formulated for students and entry to mid-level professionals.</p>
X-ALT-DESC;FMTTYPE=text/html:<p style="text-align: center;">September 15-19, 2024</p><p style="text-align: center;">Philadelphia, Pennsylvania</p><p style="text-align: center;"><strong><a href="https://sites.ed.gov/whhbcu/2024-annual-national-hbcu-week-conference/" target="_blank">Registration Opens July 23, 2024</a></strong></p><p>The Initiative will host the 2024 Annual National HBCU Week Conference, “Raising the Bar: Where Excellence and Opportunity Meet,”&nbsp;<strong>September 15-19, 2024, in Philadelphia, Pennsylvania</strong>.&nbsp; Aligning with the Department’s “Raise the Bar: Lead the World” call to action, the Initiative will continue to identify and target tangible opportunities that would connect federal and private resources to the HBCU community.&nbsp; To that end, the conference will feature the sixth annual Career and Recruitment Fair, celebrate the 10-year anniversary of the HBCU Scholar Program, the always exciting Federal Agency Meet &amp; Greet, and feature 50+ sessions and workshops grouped into the following paths of engagement:</p><p><strong>Career Pathways and Economic Mobility:&nbsp;</strong>This track is designed to maximize programs, resources, and initiatives that support the recruitment of HBCU talent, human capital, and career advancement opportunities.</p><p><strong>Research and Innovation:&nbsp;</strong>This track is designed to expand research capacity and opportunities within federal agencies, private and nonprofit organizations for HBCUs. It is an opportunity to showcase innovation through partnerships that involve HBCUs, its faculty and its students.</p><p><strong>Economic Development:</strong>&nbsp;This track will provide information on how HBCUs can leverage partnerships that advance opportunities to promote the economic wealth of the HBCU and the communities they serve.</p><p><strong>STEAM:&nbsp;</strong>Exploring evidence-based tools and innovative practices in Science, Technology, Engineering, Arts and Mathematics.<strong>&nbsp;</strong></p><p><strong>Infrastructure:&nbsp;</strong>Broadening access to resources that provides equitable support to mitigate, enhance and sustain physical and technological infrastructure.</p><p><strong>Executive Leadership:&nbsp;</strong>Invitation only engagements for Presidents and their executive leadership.</p><p><strong>Emerging Leaders:&nbsp;</strong>Formulated for students and entry to mid-level professionals.</p>
LOCATION:Philadelphia Marriott Downtown\, Philadelphia\, Pennsylvania 19107
CLASS:PUBLIC
END:VEVENT
END:VCALENDAR
