BEGIN:VCALENDAR
VERSION:2.0
PRODID:NCyTE Center Calendar Creator
METHOD:PUBLISH
BEGIN:VEVENT
DTSTAMP:20240530T094052
DTSTART:20240628T080000
DTEND:20240629T140000
SUMMARY:AI Threat Management Workshop
DESCRIPTION:<p style="text-align: center;"></p><p align="center"><strong>Faculty Development Academy:</strong></p><p align="center"><strong><em>AI Threat Management</em></strong></p><p align="center">Virtual<br><span style="text-align: left;">June 21, 2024 and&nbsp;June 28, 2024 (2 Fridays) - Cancelled</span></p><p align="center"><span style="color: rgb(255, 0, 0);">Rescheduled to:&nbsp;<br>June 28-29, 2024 (Friday and Saturday)</span><strong><br><strong>8AM - 2PM Pacific / 9AM - 3PM Mountain / 10AM - 4PM Central / 11AM - 5PM Eastern</strong></strong></p><p style="text-align: center;">&nbsp;<a href="	https://ncytecenter.wildapricot.org/event-5703026 " target="_blank" style="font-size: 25.6px; font-weight: 600; text-align: center;">REGISTER TO ATTEND</a></p><p style="text-align: center;">&nbsp;</p><hr><p>&nbsp;</p><p align="left"><em><em><strong>Who Should Attend:</strong></em><br></em></p><p align="left">This workshop is funded and tailored specifically for&nbsp;<strong>community and technical college faculty</strong>&nbsp;members&nbsp;wishing to expand their knowledge, earn an industry certification, and strengthen their ability to incorporate new cybersecurity content in their community college curriculum.&nbsp;<strong>This workshop is&nbsp;<u>not</u>&nbsp;intended for students or other non-faculty participants.</strong></p><p><strong>About the Workshop:&nbsp;</strong></p><p>As seasoned cybersecurity&nbsp;<strong>community college educators</strong>, mastering the art of AI threat management is essential. This workshop is designed to equip professionals with the knowledge and skills necessary to leverage data science and AI effectively in combating cyber threats. Participants will delve into the transformative potential of AI applications, learning how to harness human intelligence alongside AI technologies to bolster organizational defenses and improve information systems management.</p><p>Through a blend of engaging lectures, team activities, lab exercises, and practical examples, attendees will gain invaluable insights into AI methodologies tailored for threat detection, vulnerability assessment, penetration testing, threat hunting, and intelligence gathering. The workshop goes beyond technical aspects, covering essential topics such as AI ethics, governance, risk management, and compliance. Participants will explore the intricacies of building secure AI environments and utilizing AI to assist organizations in performing Privacy Impact Assessments. By the end of the workshop, professionals will emerge equipped with a comprehensive understanding of AI's role in threat management.</p><p style="text-align: center;">&nbsp;</p><hr><p>&nbsp;</p><p><strong>Facilitators:</strong></p><ul>    <li>Sam Bowne, City College San Francisco</li></ul><p>&nbsp;</p><hr><p>&nbsp;</p><p></p><p>&nbsp;</p><p>This event is funded by a National Science Foundation grant #2054724</p>
X-ALT-DESC;FMTTYPE=text/html:<p style="text-align: center;"></p><p align="center"><strong>Faculty Development Academy:</strong></p><p align="center"><strong><em>AI Threat Management</em></strong></p><p align="center">Virtual<br><span style="text-align: left;">June 21, 2024 and&nbsp;June 28, 2024 (2 Fridays) - Cancelled</span></p><p align="center"><span style="color: rgb(255, 0, 0);">Rescheduled to:&nbsp;<br>June 28-29, 2024 (Friday and Saturday)</span><strong><br><strong>8AM - 2PM Pacific / 9AM - 3PM Mountain / 10AM - 4PM Central / 11AM - 5PM Eastern</strong></strong></p><p style="text-align: center;">&nbsp;<a href="	https://ncytecenter.wildapricot.org/event-5703026 " target="_blank" style="font-size: 25.6px; font-weight: 600; text-align: center;">REGISTER TO ATTEND</a></p><p style="text-align: center;">&nbsp;</p><hr><p>&nbsp;</p><p align="left"><em><em><strong>Who Should Attend:</strong></em><br></em></p><p align="left">This workshop is funded and tailored specifically for&nbsp;<strong>community and technical college faculty</strong>&nbsp;members&nbsp;wishing to expand their knowledge, earn an industry certification, and strengthen their ability to incorporate new cybersecurity content in their community college curriculum.&nbsp;<strong>This workshop is&nbsp;<u>not</u>&nbsp;intended for students or other non-faculty participants.</strong></p><p><strong>About the Workshop:&nbsp;</strong></p><p>As seasoned cybersecurity&nbsp;<strong>community college educators</strong>, mastering the art of AI threat management is essential. This workshop is designed to equip professionals with the knowledge and skills necessary to leverage data science and AI effectively in combating cyber threats. Participants will delve into the transformative potential of AI applications, learning how to harness human intelligence alongside AI technologies to bolster organizational defenses and improve information systems management.</p><p>Through a blend of engaging lectures, team activities, lab exercises, and practical examples, attendees will gain invaluable insights into AI methodologies tailored for threat detection, vulnerability assessment, penetration testing, threat hunting, and intelligence gathering. The workshop goes beyond technical aspects, covering essential topics such as AI ethics, governance, risk management, and compliance. Participants will explore the intricacies of building secure AI environments and utilizing AI to assist organizations in performing Privacy Impact Assessments. By the end of the workshop, professionals will emerge equipped with a comprehensive understanding of AI's role in threat management.</p><p style="text-align: center;">&nbsp;</p><hr><p>&nbsp;</p><p><strong>Facilitators:</strong></p><ul>    <li>Sam Bowne, City College San Francisco</li></ul><p>&nbsp;</p><hr><p>&nbsp;</p><p></p><p>&nbsp;</p><p>This event is funded by a National Science Foundation grant #2054724</p>
LOCATION:Virtual\, 
CLASS:PUBLIC
END:VEVENT
END:VCALENDAR
