BEGIN:VCALENDAR
VERSION:2.0
PRODID:NCyTE Center Calendar Creator
METHOD:PUBLISH
BEGIN:VEVENT
DTSTAMP:20240419T093428
DTSTART:20240513T080000
DTEND:20240514T140000
SUMMARY:Python Programming for Cybersecurity
DESCRIPTION:<p style="text-align: center;"></p><p data-wacontent="8" data-wacontenttag="P" align="center"><strong data-wacontent="10" data-wacontenttag="STRONG">Faculty Development Academy:</strong></p><p data-wacontent="12" data-wacontenttag="P" align="center"><strong data-wacontent="14" data-wacontenttag="STRONG"><em data-wacontent="15" data-wacontenttag="EM">Python Programming for Cybersecurity</em></strong></p><p data-wacontent="17" data-wacontenttag="P" align="center">Virtual | May 13-14, 2024<strong data-wacontent="21" data-wacontenttag="STRONG"><br data-wacontent="22" data-wacontenttag="BR"><strong data-wacontent="23" data-wacontenttag="STRONG">8AM - 2PM Pacific / 9AM - 3PM Mountain / 10AM - 4PM Central / 11AM - 5PM Eastern</strong></strong></p><h2 style="text-align: center;"><a href="https://ncytecenter.wildapricot.org/event-5702149" target="_blank">REGSITER TO ATTEND</a></h2><p data-wacontent="17" data-wacontenttag="P" align="center"><strong data-wacontent="21" data-wacontenttag="STRONG"><strong data-wacontent="23" data-wacontenttag="STRONG"><hr></strong></strong></p><p data-wacontent="17" data-wacontenttag="P" align="center" style="text-align: left;"><em data-wacontent="31" data-wacontenttag="EM" style="text-align: left;"><em data-wacontent="34" data-wacontenttag="EM"><strong data-wacontent="36" data-wacontenttag="STRONG">Who Should Attend:</strong></em></em></p><p data-wacontent="39" data-wacontenttag="P" align="left">This workshop is funded and tailored specifically for&nbsp;<strong data-wacontent="46" data-wacontenttag="STRONG">community and technical college faculty</strong>&nbsp;members&nbsp;wishing to expand their knowledge, earn an industry certification, and strengthen their ability to incorporate new cybersecurity content in their community college curriculum.&nbsp;<strong data-wacontent="52" data-wacontenttag="STRONG">This workshop is&nbsp;not&nbsp;intended for students or other non-faculty participants.</strong></p><p data-wacontent="55" data-wacontenttag="P"><strong data-wacontent="58" data-wacontenttag="STRONG">About the Workshop:&nbsp;</strong></p><p data-wacontent="59" data-wacontenttag="P">This workshop in Python programming provides the knowledge and training to develop and maintain effective Python programs/scripts.&nbsp;<strong data-wacontent="61" data-wacontenttag="STRONG">Community college educators</strong>&nbsp;will learn to create Python scripts using functions, modules, classes, and much more as part of Python’s object-orientated paradigm. Participants will learn how to utilize Python to create scripts that manipulate data, automate tasks, perform error handling, and store and retrieve data. The class will provide hands on exercises to reinforce learning and develop real competency. The key concepts covered in this workshop include: web recon, port scanning, and packet sniffing, the instructor will introduce several concepts and commands.</p><p data-wacontent="59" data-wacontenttag="P">&nbsp;<strong data-wacontent="66" data-wacontenttag="STRONG">Topics Include:&nbsp;</strong></p><ul data-wacontent="67" data-wacontenttag="UL">    <li data-wacontent="68" data-wacontenttag="LI">Basic programming techniques</li>    <li data-wacontent="70" data-wacontenttag="LI">I/O</li>    <li data-wacontent="72" data-wacontenttag="LI">Data processing</li>    <li data-wacontent="74" data-wacontenttag="LI">File manipulation</li>    <li data-wacontent="76" data-wacontenttag="LI">Program control logic</li>    <li data-wacontent="78" data-wacontenttag="LI">Functions</li>    <li data-wacontent="80" data-wacontenttag="LI">Modules</li>    <li data-wacontent="82" data-wacontenttag="LI">Exception handling</li></ul><p data-wacontent="59" data-wacontenttag="P">&nbsp;<hr></p><p data-wacontent="59" data-wacontenttag="P">Facilitators:</p><p data-wacontent="59" data-wacontenttag="P"><li data-wacontent="99" data-wacontenttag="LI">Jason Zeller,&nbsp;Fort Hays State University</li><li data-wacontent="102" data-wacontenttag="LI">Mike Masino, Madison College</li><abbr data-wawebkitcopymarker="1713544295234">&nbsp;<hr></abbr></p><p data-wacontent="59" data-wacontenttag="P"></p><p data-wacontent="59" data-wacontenttag="P">&nbsp;</p><p data-wacontent="59" data-wacontenttag="P">This event is funded by a National Science Foundation Grant #2054724</p><p data-wacontent="59" data-wacontenttag="P">&nbsp;</p>
X-ALT-DESC;FMTTYPE=text/html:<p style="text-align: center;"></p><p data-wacontent="8" data-wacontenttag="P" align="center"><strong data-wacontent="10" data-wacontenttag="STRONG">Faculty Development Academy:</strong></p><p data-wacontent="12" data-wacontenttag="P" align="center"><strong data-wacontent="14" data-wacontenttag="STRONG"><em data-wacontent="15" data-wacontenttag="EM">Python Programming for Cybersecurity</em></strong></p><p data-wacontent="17" data-wacontenttag="P" align="center">Virtual | May 13-14, 2024<strong data-wacontent="21" data-wacontenttag="STRONG"><br data-wacontent="22" data-wacontenttag="BR"><strong data-wacontent="23" data-wacontenttag="STRONG">8AM - 2PM Pacific / 9AM - 3PM Mountain / 10AM - 4PM Central / 11AM - 5PM Eastern</strong></strong></p><h2 style="text-align: center;"><a href="https://ncytecenter.wildapricot.org/event-5702149" target="_blank">REGSITER TO ATTEND</a></h2><p data-wacontent="17" data-wacontenttag="P" align="center"><strong data-wacontent="21" data-wacontenttag="STRONG"><strong data-wacontent="23" data-wacontenttag="STRONG"><hr></strong></strong></p><p data-wacontent="17" data-wacontenttag="P" align="center" style="text-align: left;"><em data-wacontent="31" data-wacontenttag="EM" style="text-align: left;"><em data-wacontent="34" data-wacontenttag="EM"><strong data-wacontent="36" data-wacontenttag="STRONG">Who Should Attend:</strong></em></em></p><p data-wacontent="39" data-wacontenttag="P" align="left">This workshop is funded and tailored specifically for&nbsp;<strong data-wacontent="46" data-wacontenttag="STRONG">community and technical college faculty</strong>&nbsp;members&nbsp;wishing to expand their knowledge, earn an industry certification, and strengthen their ability to incorporate new cybersecurity content in their community college curriculum.&nbsp;<strong data-wacontent="52" data-wacontenttag="STRONG">This workshop is&nbsp;not&nbsp;intended for students or other non-faculty participants.</strong></p><p data-wacontent="55" data-wacontenttag="P"><strong data-wacontent="58" data-wacontenttag="STRONG">About the Workshop:&nbsp;</strong></p><p data-wacontent="59" data-wacontenttag="P">This workshop in Python programming provides the knowledge and training to develop and maintain effective Python programs/scripts.&nbsp;<strong data-wacontent="61" data-wacontenttag="STRONG">Community college educators</strong>&nbsp;will learn to create Python scripts using functions, modules, classes, and much more as part of Python’s object-orientated paradigm. Participants will learn how to utilize Python to create scripts that manipulate data, automate tasks, perform error handling, and store and retrieve data. The class will provide hands on exercises to reinforce learning and develop real competency. The key concepts covered in this workshop include: web recon, port scanning, and packet sniffing, the instructor will introduce several concepts and commands.</p><p data-wacontent="59" data-wacontenttag="P">&nbsp;<strong data-wacontent="66" data-wacontenttag="STRONG">Topics Include:&nbsp;</strong></p><ul data-wacontent="67" data-wacontenttag="UL">    <li data-wacontent="68" data-wacontenttag="LI">Basic programming techniques</li>    <li data-wacontent="70" data-wacontenttag="LI">I/O</li>    <li data-wacontent="72" data-wacontenttag="LI">Data processing</li>    <li data-wacontent="74" data-wacontenttag="LI">File manipulation</li>    <li data-wacontent="76" data-wacontenttag="LI">Program control logic</li>    <li data-wacontent="78" data-wacontenttag="LI">Functions</li>    <li data-wacontent="80" data-wacontenttag="LI">Modules</li>    <li data-wacontent="82" data-wacontenttag="LI">Exception handling</li></ul><p data-wacontent="59" data-wacontenttag="P">&nbsp;<hr></p><p data-wacontent="59" data-wacontenttag="P">Facilitators:</p><p data-wacontent="59" data-wacontenttag="P"><li data-wacontent="99" data-wacontenttag="LI">Jason Zeller,&nbsp;Fort Hays State University</li><li data-wacontent="102" data-wacontenttag="LI">Mike Masino, Madison College</li><abbr data-wawebkitcopymarker="1713544295234">&nbsp;<hr></abbr></p><p data-wacontent="59" data-wacontenttag="P"></p><p data-wacontent="59" data-wacontenttag="P">&nbsp;</p><p data-wacontent="59" data-wacontenttag="P">This event is funded by a National Science Foundation Grant #2054724</p><p data-wacontent="59" data-wacontenttag="P">&nbsp;</p>
LOCATION:Virtual\, 
CLASS:PUBLIC
END:VEVENT
END:VCALENDAR
