BEGIN:VCALENDAR
VERSION:2.0
PRODID:NCyTE Center Calendar Creator
METHOD:PUBLISH
BEGIN:VEVENT
DTSTAMP:20240419T084548
DTSTART:20240501T100000
DTEND:20240501T140000
SUMMARY:Houston Community College Cybersecurity Luncheon
DESCRIPTION:<p style="text-align: center;"></p><p align="center"><strong>Houston Community College Cybersecurity Luncheon<br></strong>May 1, 2024</p><p align="center">10:00 am - 2:00 pm CST</p><p align="center">Houston Community College -&nbsp;&nbsp;West Houston Institute Auditorium</p><p align="center">The West Houston Institute Auditorium</p><p align="center">2811 Hayes Road, Houston, Texas 77081</p><p style="text-align: center;"><a href="	https://ncytecenter.wildapricot.org/event-5676465 " target="_blank">REGISTER TO ATTEND</a></p><p>Join us for Houston Community College’s Cybersecurity Luncheon event, with the theme of Cyber Careers! The event will bring together students, faculty, and professionals to discuss the latest Cybersecurity trends, and how students can get into that field.</p><p>You will hear from the National Cybersecurity Training and Education Center (NCyTE), the Cybersecurity and Infrastructure Security Agency (CISA) and many other organizations. Current students and alumni will share their stories and journeys. We will have a panel featuring industry professionals and another featuring our students. Come ready to network, share, and collaborate! Employers, you are welcome to join us!</p><p>The event is free, and lunch will be provided thanks to a sponsorship from NCyTE and the National Science Foundation (NSF). We welcome donations to support our student scholarships and our Cybersecurity student club! Contact Kristina Perez&nbsp;<a href="mailto:kristina.perez@hccs.edu" target="_blank">kristina.perez@hccs.edu</a>&nbsp;for more information. These donations are tax-deductible and go a long way in impacting our community.</p><p align="center"><strong>Event Agenda</strong></p><p align="center"><span style="text-align: left;">10am – 11am – Registration/Networking/Lunch</span></p><p style="text-align: center;">11am – 11:15am – Welcome and highlight NCyte&nbsp;</p><p style="text-align: center;">11:15am – 11:30am – Welcome from CISA&nbsp;</p><p style="text-align: center;">11:45am – 12:30pm – Industry Professionals / Faculty panel</p><p style="text-align: center;">12:45pm – 1:30pm – Student panel</p><p style="text-align: center;">1:30pm – 2:00pm – Networking/Close</p><p>Follow the Cybersecurity student club on LinkedIn and other social media platforms:&nbsp;<a href="https://linkprotect.cudasvc.com/url?a=https%3a%2f%2flinktr.ee%2fdit.sec&amp;c=E,1,eCRlaTrr-L6gVJ_6KqOqcQb9jXVsg81E_DmN_MSG7DuO1FXYlH-XcE5euDs2Ct7aZSqpofyudccMb30bx0m2R0FHVhtVxl9ANGQo6as-NxKVw2HnETa5FJpJ&amp;typo=1" target="_blank">https://linktr.ee/dit.sec</a></p><p>HCC’s Cyber Center page can be found at&nbsp;<a href="https://linkprotect.cudasvc.com/url?a=https%3a%2f%2f%2f%2fhccs.edu%2fcyber&amp;c=E,1,yWY5LhOtQvzjhE2ofnEQxN39RvVHuUV2cJGW99Hrw8QW0qs7hn3XzegVr6hBQPiX65_sisq32ph_SdeQzndEX_Q_7X2mkKVjuSJIXyXedYN_Vrho&amp;typo=1&amp;ancr_add=1" target="_blank">//hccs.edu/cyber</a></p><p>&nbsp;<hr></p><p></p><p>&nbsp;</p><p>&nbsp;</p><p>Dr. Stephen Miller, NCyTE Co-PI, tenured Professor and Director Cybersecurity Center of Excellence at ENMU- Ruidoso Community College.&nbsp;&nbsp;</p><p>&nbsp;</p><p>&nbsp;</p><p>&nbsp;<hr></p><p>&nbsp;</p><p>&nbsp;</p><p>This event is funded by a National Science Foundation grant #2054724 awarded to Whatcom Community College.</p><p>&nbsp;</p>
X-ALT-DESC;FMTTYPE=text/html:<p style="text-align: center;"></p><p align="center"><strong>Houston Community College Cybersecurity Luncheon<br></strong>May 1, 2024</p><p align="center">10:00 am - 2:00 pm CST</p><p align="center">Houston Community College -&nbsp;&nbsp;West Houston Institute Auditorium</p><p align="center">The West Houston Institute Auditorium</p><p align="center">2811 Hayes Road, Houston, Texas 77081</p><p style="text-align: center;"><a href="	https://ncytecenter.wildapricot.org/event-5676465 " target="_blank">REGISTER TO ATTEND</a></p><p>Join us for Houston Community College’s Cybersecurity Luncheon event, with the theme of Cyber Careers! The event will bring together students, faculty, and professionals to discuss the latest Cybersecurity trends, and how students can get into that field.</p><p>You will hear from the National Cybersecurity Training and Education Center (NCyTE), the Cybersecurity and Infrastructure Security Agency (CISA) and many other organizations. Current students and alumni will share their stories and journeys. We will have a panel featuring industry professionals and another featuring our students. Come ready to network, share, and collaborate! Employers, you are welcome to join us!</p><p>The event is free, and lunch will be provided thanks to a sponsorship from NCyTE and the National Science Foundation (NSF). We welcome donations to support our student scholarships and our Cybersecurity student club! Contact Kristina Perez&nbsp;<a href="mailto:kristina.perez@hccs.edu" target="_blank">kristina.perez@hccs.edu</a>&nbsp;for more information. These donations are tax-deductible and go a long way in impacting our community.</p><p align="center"><strong>Event Agenda</strong></p><p align="center"><span style="text-align: left;">10am – 11am – Registration/Networking/Lunch</span></p><p style="text-align: center;">11am – 11:15am – Welcome and highlight NCyte&nbsp;</p><p style="text-align: center;">11:15am – 11:30am – Welcome from CISA&nbsp;</p><p style="text-align: center;">11:45am – 12:30pm – Industry Professionals / Faculty panel</p><p style="text-align: center;">12:45pm – 1:30pm – Student panel</p><p style="text-align: center;">1:30pm – 2:00pm – Networking/Close</p><p>Follow the Cybersecurity student club on LinkedIn and other social media platforms:&nbsp;<a href="https://linkprotect.cudasvc.com/url?a=https%3a%2f%2flinktr.ee%2fdit.sec&amp;c=E,1,eCRlaTrr-L6gVJ_6KqOqcQb9jXVsg81E_DmN_MSG7DuO1FXYlH-XcE5euDs2Ct7aZSqpofyudccMb30bx0m2R0FHVhtVxl9ANGQo6as-NxKVw2HnETa5FJpJ&amp;typo=1" target="_blank">https://linktr.ee/dit.sec</a></p><p>HCC’s Cyber Center page can be found at&nbsp;<a href="https://linkprotect.cudasvc.com/url?a=https%3a%2f%2f%2f%2fhccs.edu%2fcyber&amp;c=E,1,yWY5LhOtQvzjhE2ofnEQxN39RvVHuUV2cJGW99Hrw8QW0qs7hn3XzegVr6hBQPiX65_sisq32ph_SdeQzndEX_Q_7X2mkKVjuSJIXyXedYN_Vrho&amp;typo=1&amp;ancr_add=1" target="_blank">//hccs.edu/cyber</a></p><p>&nbsp;<hr></p><p></p><p>&nbsp;</p><p>&nbsp;</p><p>Dr. Stephen Miller, NCyTE Co-PI, tenured Professor and Director Cybersecurity Center of Excellence at ENMU- Ruidoso Community College.&nbsp;&nbsp;</p><p>&nbsp;</p><p>&nbsp;</p><p>&nbsp;<hr></p><p>&nbsp;</p><p>&nbsp;</p><p>This event is funded by a National Science Foundation grant #2054724 awarded to Whatcom Community College.</p><p>&nbsp;</p>
LOCATION:West Houston Institute Auditorium\, 2811 Hayes Rd Houston\, Texas 77081
CLASS:PUBLIC
END:VEVENT
END:VCALENDAR
