BEGIN:VCALENDAR
VERSION:2.0
PRODID:NCyTE Center Calendar Creator
METHOD:PUBLISH
BEGIN:VEVENT
DTSTAMP:20240419T130945
DTSTART:20240424T150000
DTEND:20240424T180000
SUMMARY:Securing the next generation of technology workers
DESCRIPTION:<p>&nbsp; &nbsp;&nbsp;&nbsp;&nbsp;</p><h2 style="text-align: center;">Whatcom Community College - Heiner Theater</h2><p style="text-align: center;">237 W. Kellogg Rd - Bellingham, WA</p><p style="text-align: center;">3:00 pm - 6:00 pm&nbsp;</p><p style="text-align: center;">&nbsp;</p><h2 style="text-align: center;">Unlock the Future:&nbsp; Join us at Whatcom Community College to shape tomorrow’s tech leaders.</h2><p style="text-align: center;">Industry and academia converge to discuss cybersecurity workforce needs, WCC graduates’ talent, and building resilient<br>hiring pipelines. Hear from regional cyber security leaders from Microsoft, Boeing, Chipotle and more, about cutting<br>edge security strategies, highlighting the value of community college grads in closing tech workforce gaps. Don’t miss<br>this chance to network with regional cybersecurity leaders and WCC’s cyber talent.</p><h3 style="text-align: center;"><a href="https://ncytecenter.wildapricot.org/event-5517985 " target="_blank">REGISTER TO ATTEND</a></h3><p style="text-align: center;"><hr></p><p style="text-align: left;"></p><p style="text-align: left;">&nbsp;</p><p style="text-align: left;">Moderator: Stephen Miller -&nbsp;NCyTE Co-Principal Investigator, Eastern New Mexico University - Ruidoso Branch Community College<abbr data-wawebkitcopymarker="1711048331036"></abbr></p><p style="text-align: left;"><abbr data-wawebkitcopymarker="1711048331036">&nbsp;</abbr></p><p style="text-align: left;"><abbr data-wawebkitcopymarker="1711048331036">&nbsp;</abbr></p><p style="text-align: left;"><abbr data-wawebkitcopymarker="1711048331036"><hr></abbr></p><p style="text-align: left;"><abbr data-wawebkitcopymarker="1711048331036"></abbr></p><p style="text-align: left;"><abbr data-wawebkitcopymarker="1711048331036">&nbsp;</abbr></p><p style="text-align: left;"><abbr data-wawebkitcopymarker="1711048331036">The National Cybersecurity Training and Education Center (NCyTE) at Whatcom&nbsp;Community College (WCC) is an Advanced Technological Education (ATE) National Center, grant-funded by the National Science Foundation (NSF)&nbsp;grant # 2054724.<abbr data-wawebkitcopymarker="1711048474438"></abbr></abbr></p><p style="text-align: left;">&nbsp;</p><p style="text-align: left;"><abbr data-wawebkitcopymarker="1711048331036"><abbr data-wawebkitcopymarker="1711048474438"></abbr></abbr></p><p style="text-align: left;">The Cybersecurity Center of Excellence (CCoE) is one of twelve centers in Washington state, funded through the State Board of Community &amp; Technical Colleges and hosted at Whatcom Community College.&nbsp;<abbr data-wawebkitcopymarker="1711048494584">&nbsp;</abbr></p><p style="text-align: center;" _rdeditor_exists="1">&nbsp;</p>
X-ALT-DESC;FMTTYPE=text/html:<p>&nbsp; &nbsp;&nbsp;&nbsp;&nbsp;</p><h2 style="text-align: center;">Whatcom Community College - Heiner Theater</h2><p style="text-align: center;">237 W. Kellogg Rd - Bellingham, WA</p><p style="text-align: center;">3:00 pm - 6:00 pm&nbsp;</p><p style="text-align: center;">&nbsp;</p><h2 style="text-align: center;">Unlock the Future:&nbsp; Join us at Whatcom Community College to shape tomorrow’s tech leaders.</h2><p style="text-align: center;">Industry and academia converge to discuss cybersecurity workforce needs, WCC graduates’ talent, and building resilient<br>hiring pipelines. Hear from regional cyber security leaders from Microsoft, Boeing, Chipotle and more, about cutting<br>edge security strategies, highlighting the value of community college grads in closing tech workforce gaps. Don’t miss<br>this chance to network with regional cybersecurity leaders and WCC’s cyber talent.</p><h3 style="text-align: center;"><a href="https://ncytecenter.wildapricot.org/event-5517985 " target="_blank">REGISTER TO ATTEND</a></h3><p style="text-align: center;"><hr></p><p style="text-align: left;"></p><p style="text-align: left;">&nbsp;</p><p style="text-align: left;">Moderator: Stephen Miller -&nbsp;NCyTE Co-Principal Investigator, Eastern New Mexico University - Ruidoso Branch Community College<abbr data-wawebkitcopymarker="1711048331036"></abbr></p><p style="text-align: left;"><abbr data-wawebkitcopymarker="1711048331036">&nbsp;</abbr></p><p style="text-align: left;"><abbr data-wawebkitcopymarker="1711048331036">&nbsp;</abbr></p><p style="text-align: left;"><abbr data-wawebkitcopymarker="1711048331036"><hr></abbr></p><p style="text-align: left;"><abbr data-wawebkitcopymarker="1711048331036"></abbr></p><p style="text-align: left;"><abbr data-wawebkitcopymarker="1711048331036">&nbsp;</abbr></p><p style="text-align: left;"><abbr data-wawebkitcopymarker="1711048331036">The National Cybersecurity Training and Education Center (NCyTE) at Whatcom&nbsp;Community College (WCC) is an Advanced Technological Education (ATE) National Center, grant-funded by the National Science Foundation (NSF)&nbsp;grant # 2054724.<abbr data-wawebkitcopymarker="1711048474438"></abbr></abbr></p><p style="text-align: left;">&nbsp;</p><p style="text-align: left;"><abbr data-wawebkitcopymarker="1711048331036"><abbr data-wawebkitcopymarker="1711048474438"></abbr></abbr></p><p style="text-align: left;">The Cybersecurity Center of Excellence (CCoE) is one of twelve centers in Washington state, funded through the State Board of Community &amp; Technical Colleges and hosted at Whatcom Community College.&nbsp;<abbr data-wawebkitcopymarker="1711048494584">&nbsp;</abbr></p><p style="text-align: center;" _rdeditor_exists="1">&nbsp;</p>
LOCATION:Whatcom Community College - Heiner Theater\, 237 W. Kellogg Rd Bellingham\, Washington 98226
CLASS:PUBLIC
END:VEVENT
END:VCALENDAR
