BEGIN:VCALENDAR
VERSION:2.0
PRODID:NCyTE Center Calendar Creator
METHOD:PUBLISH
BEGIN:VEVENT
DTSTAMP:20240717T140021
DTSTART:20240805T080000
DTEND:20240809T140000
SUMMARY:Faculty Development Academy: CISA - Certified Information Systems Auditor
DESCRIPTION:<p style="text-align: center;"></p><p data-wacontent="8" data-wacontenttag="P" align="center"><strong data-wacontent="10" data-wacontenttag="STRONG">Faculty Development Academy:</strong></p><p data-wacontent="12" data-wacontenttag="P" align="center"><strong data-wacontent="15" data-wacontenttag="STRONG"><em data-wacontent="16" data-wacontenttag="EM">CISA: Certified Information Systems Auditor</em></strong></p><p data-wacontent="18" data-wacontenttag="P" align="center">Virtual | April 22-26 2024<strong data-wacontent="22" data-wacontenttag="STRONG"><br data-wacontent="23" data-wacontenttag="BR"><strong data-wacontent="24" data-wacontenttag="STRONG"><strong data-wacontent="26" data-wacontenttag="STRONG"><strong data-wacontent="28" data-wacontenttag="STRONG">8AM - 2PM Pacific / 9AM - 3PM Mountain / 10AM - 4PM Central / 11AM - 5PM Eastern</strong></strong></strong></strong></p><p data-wacontent="30" data-wacontenttag="P" align="center"><a href="https://ncytecenter.wildapricot.org/event-5655073" target="_blank" style="font-family: inherit; font-size: 32px; font-weight: 600;">&nbsp;</a></p><p data-wacontent="30" data-wacontenttag="P" align="center"><a href="https://ncytecenter.wildapricot.org/event-5655073" target="_blank" style="font-family: inherit; font-size: 32px; font-weight: 600;">REGISTER TO ATTEND</a></p><p data-wacontent="54" data-wacontenttag="P" align="left"><em data-wacontent="56" data-wacontenttag="EM"><strong data-wacontent="59" data-wacontenttag="STRONG">&nbsp;</strong></em></p><p data-wacontent="54" data-wacontenttag="P" align="left"><em data-wacontent="56" data-wacontenttag="EM"><strong data-wacontent="59" data-wacontenttag="STRONG">Who Should Attend:</strong><br data-wacontent="61" data-wacontenttag="BR"></em></p><p data-wacontent="62" data-wacontenttag="P" align="left">This workshop is funded and tailored specifically for&nbsp;<strong data-wacontent="70" data-wacontenttag="STRONG">community and technical college faculty</strong>&nbsp;members&nbsp;wishing to expand their knowledge, earn an industry certification, and strengthen their ability to incorporate new cybersecurity content in their community college curriculum.&nbsp;This workshop is&nbsp;not&nbsp;intended for students or other non-faculty participants.<br data-wacontent="75" data-wacontenttag="BR"></p><p data-wacontent="76" data-wacontenttag="P"><strong data-wacontent="79" data-wacontenttag="STRONG">About the Workshop:&nbsp;</strong></p><p data-wacontent="80" data-wacontenttag="P">Validate your expertise and get the leverage you need to move up in your teaching career. With a Certified&nbsp;Information Systems Auditor (CISA) certification, you can do just that. CISA is world-renowned as the standard&nbsp;of achievement for those who audit, control, monitor and assess an organization’s information technology and&nbsp;business systems.</p><p data-wacontent="86" data-wacontenttag="P">CISA certification is foundational to a successful IT career. If you are an entry-level to mid-career professional,&nbsp;CISA can showcase your expertise and assert your ability to apply a risk-based approach to planning, executing,&nbsp;and reporting on audit engagements. Gain instant credibility in your interactions with internal stakeholders,&nbsp;regulators, external auditors, and customers.</p><p data-wacontent="92" data-wacontenttag="P">CISA provides a valid and reliable means for enterprises to identify technologists who are competent in&nbsp;incorporating privacy by design into technology platforms, products and processes, communicating with legal&nbsp;professionals, and keeping the organization compliant efficiently and cost effectively.&nbsp;</p><p data-wacontent="99" data-wacontenttag="P"><strong data-wacontent="102" data-wacontenttag="STRONG">Stipend:</strong></p><p data-wacontent="103" data-wacontenttag="P">Eligible community college faculty who successfully pass the CISA certification exam will receive a stipend toward the cost of the certification.</p><p data-wacontent="106" data-wacontenttag="P">To be eligible for the stipend, you must:</p><ul data-wacontent="108" data-wacontenttag="UL">    <li data-wacontent="109" data-wacontenttag="LI">Currently teach college credit courses (full-time or adjunct) at a regionally accredited U.S. community or technical college</li>    <li data-wacontent="111" data-wacontenttag="LI">Provide evidence that you passed the certification exam, such as a copy of the certification or exam report</li>    <li data-wacontent="113" data-wacontenttag="LI">Provide a current W9 tax form to the NCyTE Center</li></ul><p data-wacontent="113" data-wacontenttag="LI"><hr></p><p data-wacontent="125" data-wacontenttag="P"><strong data-wacontent="127" data-wacontenttag="STRONG">Facilitators:</strong></p><ul data-wacontent="128" data-wacontenttag="UL">    <li data-wacontent="129" data-wacontenttag="LI">Kyle Jones - Sinclair Community College</li>    <li data-wacontent="132" data-wacontenttag="LI">Mike Qaissaunee - Brookdale Community College</li>    <li data-wacontent="135" data-wacontenttag="LI">Jiri Jirik&nbsp;- Moraine Valley Community College</li></ul><p data-wacontent="113" data-wacontenttag="LI"><abbr data-wawebkitcopymarker="1710778000404"><hr></abbr></p><p data-wacontent="113" data-wacontenttag="LI"><abbr data-wawebkitcopymarker="1710778000404">&nbsp;</abbr></p><p data-wacontent="113" data-wacontenttag="LI"><abbr data-wawebkitcopymarker="1710778000404">This event is funded by a National Science Foundation grant # 2054724<abbr data-wawebkitcopymarker="1710778124498">&nbsp;</abbr></abbr></p>
X-ALT-DESC;FMTTYPE=text/html:<p style="text-align: center;"></p><p data-wacontent="8" data-wacontenttag="P" align="center"><strong data-wacontent="10" data-wacontenttag="STRONG">Faculty Development Academy:</strong></p><p data-wacontent="12" data-wacontenttag="P" align="center"><strong data-wacontent="15" data-wacontenttag="STRONG"><em data-wacontent="16" data-wacontenttag="EM">CISA: Certified Information Systems Auditor</em></strong></p><p data-wacontent="18" data-wacontenttag="P" align="center">Virtual | April 22-26 2024<strong data-wacontent="22" data-wacontenttag="STRONG"><br data-wacontent="23" data-wacontenttag="BR"><strong data-wacontent="24" data-wacontenttag="STRONG"><strong data-wacontent="26" data-wacontenttag="STRONG"><strong data-wacontent="28" data-wacontenttag="STRONG">8AM - 2PM Pacific / 9AM - 3PM Mountain / 10AM - 4PM Central / 11AM - 5PM Eastern</strong></strong></strong></strong></p><p data-wacontent="30" data-wacontenttag="P" align="center"><a href="https://ncytecenter.wildapricot.org/event-5655073" target="_blank" style="font-family: inherit; font-size: 32px; font-weight: 600;">&nbsp;</a></p><p data-wacontent="30" data-wacontenttag="P" align="center"><a href="https://ncytecenter.wildapricot.org/event-5655073" target="_blank" style="font-family: inherit; font-size: 32px; font-weight: 600;">REGISTER TO ATTEND</a></p><p data-wacontent="54" data-wacontenttag="P" align="left"><em data-wacontent="56" data-wacontenttag="EM"><strong data-wacontent="59" data-wacontenttag="STRONG">&nbsp;</strong></em></p><p data-wacontent="54" data-wacontenttag="P" align="left"><em data-wacontent="56" data-wacontenttag="EM"><strong data-wacontent="59" data-wacontenttag="STRONG">Who Should Attend:</strong><br data-wacontent="61" data-wacontenttag="BR"></em></p><p data-wacontent="62" data-wacontenttag="P" align="left">This workshop is funded and tailored specifically for&nbsp;<strong data-wacontent="70" data-wacontenttag="STRONG">community and technical college faculty</strong>&nbsp;members&nbsp;wishing to expand their knowledge, earn an industry certification, and strengthen their ability to incorporate new cybersecurity content in their community college curriculum.&nbsp;This workshop is&nbsp;not&nbsp;intended for students or other non-faculty participants.<br data-wacontent="75" data-wacontenttag="BR"></p><p data-wacontent="76" data-wacontenttag="P"><strong data-wacontent="79" data-wacontenttag="STRONG">About the Workshop:&nbsp;</strong></p><p data-wacontent="80" data-wacontenttag="P">Validate your expertise and get the leverage you need to move up in your teaching career. With a Certified&nbsp;Information Systems Auditor (CISA) certification, you can do just that. CISA is world-renowned as the standard&nbsp;of achievement for those who audit, control, monitor and assess an organization’s information technology and&nbsp;business systems.</p><p data-wacontent="86" data-wacontenttag="P">CISA certification is foundational to a successful IT career. If you are an entry-level to mid-career professional,&nbsp;CISA can showcase your expertise and assert your ability to apply a risk-based approach to planning, executing,&nbsp;and reporting on audit engagements. Gain instant credibility in your interactions with internal stakeholders,&nbsp;regulators, external auditors, and customers.</p><p data-wacontent="92" data-wacontenttag="P">CISA provides a valid and reliable means for enterprises to identify technologists who are competent in&nbsp;incorporating privacy by design into technology platforms, products and processes, communicating with legal&nbsp;professionals, and keeping the organization compliant efficiently and cost effectively.&nbsp;</p><p data-wacontent="99" data-wacontenttag="P"><strong data-wacontent="102" data-wacontenttag="STRONG">Stipend:</strong></p><p data-wacontent="103" data-wacontenttag="P">Eligible community college faculty who successfully pass the CISA certification exam will receive a stipend toward the cost of the certification.</p><p data-wacontent="106" data-wacontenttag="P">To be eligible for the stipend, you must:</p><ul data-wacontent="108" data-wacontenttag="UL">    <li data-wacontent="109" data-wacontenttag="LI">Currently teach college credit courses (full-time or adjunct) at a regionally accredited U.S. community or technical college</li>    <li data-wacontent="111" data-wacontenttag="LI">Provide evidence that you passed the certification exam, such as a copy of the certification or exam report</li>    <li data-wacontent="113" data-wacontenttag="LI">Provide a current W9 tax form to the NCyTE Center</li></ul><p data-wacontent="113" data-wacontenttag="LI"><hr></p><p data-wacontent="125" data-wacontenttag="P"><strong data-wacontent="127" data-wacontenttag="STRONG">Facilitators:</strong></p><ul data-wacontent="128" data-wacontenttag="UL">    <li data-wacontent="129" data-wacontenttag="LI">Kyle Jones - Sinclair Community College</li>    <li data-wacontent="132" data-wacontenttag="LI">Mike Qaissaunee - Brookdale Community College</li>    <li data-wacontent="135" data-wacontenttag="LI">Jiri Jirik&nbsp;- Moraine Valley Community College</li></ul><p data-wacontent="113" data-wacontenttag="LI"><abbr data-wawebkitcopymarker="1710778000404"><hr></abbr></p><p data-wacontent="113" data-wacontenttag="LI"><abbr data-wawebkitcopymarker="1710778000404">&nbsp;</abbr></p><p data-wacontent="113" data-wacontenttag="LI"><abbr data-wawebkitcopymarker="1710778000404">This event is funded by a National Science Foundation grant # 2054724<abbr data-wawebkitcopymarker="1710778124498">&nbsp;</abbr></abbr></p>
LOCATION:Virtual\, 
CLASS:PUBLIC
END:VEVENT
END:VCALENDAR
