BEGIN:VCALENDAR
VERSION:2.0
PRODID:NCyTE Center Calendar Creator
METHOD:PUBLISH
BEGIN:VEVENT
DTSTAMP:20240103T113939
DTSTART:20240206T133000
DTEND:20240206T150000
SUMMARY:NCAE-C Cybersecurity Credit Transfer Task
DESCRIPTION:<p>Are you interested in developing a<b>&nbsp;new K-12 Credit Transfer Agreement </b>(CTA) for your cybersecurity program?&nbsp; Do you already have a K-12 school in mind but not sure how to move forward?&nbsp;</p><p>Please attend our <b>K-12 Credit Transfer Agreement Development Workshop on Tuesday, February 6<sup>th</sup>&nbsp;@ 1:30pm – 3:00pm CT. &nbsp;</b>We will have dual credit experts on hand to explain and help us navigate this process, and we have a guide and resources to assist with developing your own cybersecurity agreement.&nbsp; We hope this event will demystify the CTA process and provide support as you create your agreement.&nbsp; Please join us in Zoom on Tuesday: <a href="https://purdue-edu.zoom.us/j/97762033385?pwd=RVEwWFNPQXJoK2NxTDFhUzNHNk1wQT09" title="Original URL: https://purdue-edu.zoom.us/j/97762033385?pwd=RVEwWFNPQXJoK2NxTDFhUzNHNk1wQT09. Click or tap if you trust this link.">https://purdue-edu.zoom.us/j/97762033385?pwd=RVEwWFNPQXJoK2NxTDFhUzNHNk1wQT09</a></p><p>Meeting ID: 977 6203 3385<br>Passcode: CTA</p><p>Looking forward to seeing everyone at the workshop!</p><p>Take care,</p><p>-The NCAE-C CTA Taskforce</p>
X-ALT-DESC;FMTTYPE=text/html:<p>Are you interested in developing a<b>&nbsp;new K-12 Credit Transfer Agreement </b>(CTA) for your cybersecurity program?&nbsp; Do you already have a K-12 school in mind but not sure how to move forward?&nbsp;</p><p>Please attend our <b>K-12 Credit Transfer Agreement Development Workshop on Tuesday, February 6<sup>th</sup>&nbsp;@ 1:30pm – 3:00pm CT. &nbsp;</b>We will have dual credit experts on hand to explain and help us navigate this process, and we have a guide and resources to assist with developing your own cybersecurity agreement.&nbsp; We hope this event will demystify the CTA process and provide support as you create your agreement.&nbsp; Please join us in Zoom on Tuesday: <a href="https://purdue-edu.zoom.us/j/97762033385?pwd=RVEwWFNPQXJoK2NxTDFhUzNHNk1wQT09" title="Original URL: https://purdue-edu.zoom.us/j/97762033385?pwd=RVEwWFNPQXJoK2NxTDFhUzNHNk1wQT09. Click or tap if you trust this link.">https://purdue-edu.zoom.us/j/97762033385?pwd=RVEwWFNPQXJoK2NxTDFhUzNHNk1wQT09</a></p><p>Meeting ID: 977 6203 3385<br>Passcode: CTA</p><p>Looking forward to seeing everyone at the workshop!</p><p>Take care,</p><p>-The NCAE-C CTA Taskforce</p>
LOCATION:Virtual\, 
CLASS:PUBLIC
END:VEVENT
END:VCALENDAR
