BEGIN:VCALENDAR
VERSION:2.0
PRODID:NCyTE Center Calendar Creator
METHOD:PUBLISH
BEGIN:VEVENT
DTSTAMP:20231211T102228
DTSTART:20231211T153000
DTEND:20231211T161500
SUMMARY:Meet and Greet with IRS Special Agents and Valley National Bank
DESCRIPTION:<p style="text-align: center;">Meet &amp; Greet—Banking Security and Introduction to the Certified Fraud Examiner (CFE) Certification</p><p style="text-align: center;">Date: December 11, 2023; 3:30pm-4:20pm </p><p style="text-align: center;">Location: Hynes Hall Room 102</p><p style="text-align: center;"><hr></p><p style="text-align: center;">Chris Phillips, Sr. Vice President, Valley National Bank; NJACFE Board </p><p style="text-align: center;">Megan Rauch, NJACFE Board</p><p style="text-align: center;">Carlo Nastasi, Special Agent, IRS-Criminal Investigations; NJACFE Board</p><p style="text-align: center;">Prof. Stan Mierzwa, Center for Cyber</p><p style="text-align: center;"><hr></p><p style="text-align: center;">For more information —please email cybersecurity@kean.edu</p><p style="text-align: center;">&nbsp;</p>
X-ALT-DESC;FMTTYPE=text/html:<p style="text-align: center;">Meet &amp; Greet—Banking Security and Introduction to the Certified Fraud Examiner (CFE) Certification</p><p style="text-align: center;">Date: December 11, 2023; 3:30pm-4:20pm </p><p style="text-align: center;">Location: Hynes Hall Room 102</p><p style="text-align: center;"><hr></p><p style="text-align: center;">Chris Phillips, Sr. Vice President, Valley National Bank; NJACFE Board </p><p style="text-align: center;">Megan Rauch, NJACFE Board</p><p style="text-align: center;">Carlo Nastasi, Special Agent, IRS-Criminal Investigations; NJACFE Board</p><p style="text-align: center;">Prof. Stan Mierzwa, Center for Cyber</p><p style="text-align: center;"><hr></p><p style="text-align: center;">For more information —please email cybersecurity@kean.edu</p><p style="text-align: center;">&nbsp;</p>
LOCATION:Kean University - Hynes Hall Room 102\, 1011 Morris Avenue Union\, New Jersey 07083
CLASS:PUBLIC
END:VEVENT
END:VCALENDAR
