BEGIN:VCALENDAR
VERSION:2.0
PRODID:NCyTE Center Calendar Creator
METHOD:PUBLISH
BEGIN:VEVENT
DTSTAMP:20231116T123033
DTSTART:20240108T080000
DTEND:20240110T170000
SUMMARY:CyberCorps®: Scholarship for Service (SFS) 2024 Job Fair
DESCRIPTION:<p>The National Science Foundation (NSF), Office of Personnel Management (OPM), and Cybersecurity and Infrastructure Security Agency (CISA) are pleased to invite you to attend the <b>CyberCorps®: Scholarship for Service (SFS) 2024 Job Fair</b><b> </b>at the<b> </b><b>Washington Hilton</b> in Washington D.C. on <b>January 8 – 10, 2024</b><b>. </b>&nbsp;</p><p> &nbsp;</p><p>The SFS Job Fair serves as a signature cybersecurity hiring event bringing together more than 950 cybersecurity participants from undergraduate and graduate programs and Federal, State, Local, and Tribal government. Attending this event will help bridge the gap between classroom theories and real-world application. You will be able to share your experiences, network, and platform to give your SFS recipients the valuable tools in preparing them to be workforce ready.&nbsp;&nbsp;&nbsp;</p><p style="text-align: center;">&nbsp;<b>USE THIS </b><a href="https://linkprotect.cudasvc.com/url?a=https%3a%2f%2fwhova.com%2fportal%2fregistration%2fcsssj_202401%2f&amp;c=E,1,axXr-oUlOe0SwIrEXXLneN00WzIoS59IaxzN2rvVm8AItI1Gpao_pCcVeHaG0iAloy-4kDlfa3pRu2-dOFpgdLmHWE97eWNjAGPeN-WuN9ox&amp;typo=1" target="_blank"><b>LINK</b></a><b> TO REGISTER TODAY!</b>&nbsp;&nbsp;</p>
X-ALT-DESC;FMTTYPE=text/html:<p>The National Science Foundation (NSF), Office of Personnel Management (OPM), and Cybersecurity and Infrastructure Security Agency (CISA) are pleased to invite you to attend the <b>CyberCorps®: Scholarship for Service (SFS) 2024 Job Fair</b><b> </b>at the<b> </b><b>Washington Hilton</b> in Washington D.C. on <b>January 8 – 10, 2024</b><b>. </b>&nbsp;</p><p> &nbsp;</p><p>The SFS Job Fair serves as a signature cybersecurity hiring event bringing together more than 950 cybersecurity participants from undergraduate and graduate programs and Federal, State, Local, and Tribal government. Attending this event will help bridge the gap between classroom theories and real-world application. You will be able to share your experiences, network, and platform to give your SFS recipients the valuable tools in preparing them to be workforce ready.&nbsp;&nbsp;&nbsp;</p><p style="text-align: center;">&nbsp;<b>USE THIS </b><a href="https://linkprotect.cudasvc.com/url?a=https%3a%2f%2fwhova.com%2fportal%2fregistration%2fcsssj_202401%2f&amp;c=E,1,axXr-oUlOe0SwIrEXXLneN00WzIoS59IaxzN2rvVm8AItI1Gpao_pCcVeHaG0iAloy-4kDlfa3pRu2-dOFpgdLmHWE97eWNjAGPeN-WuN9ox&amp;typo=1" target="_blank"><b>LINK</b></a><b> TO REGISTER TODAY!</b>&nbsp;&nbsp;</p>
LOCATION:Washington Hilton\, Washington\, District of Columbia 
CLASS:PUBLIC
END:VEVENT
END:VCALENDAR
