BEGIN:VCALENDAR
VERSION:2.0
PRODID:NCyTE Center Calendar Creator
METHOD:PUBLISH
BEGIN:VEVENT
DTSTAMP:20231101T141754
DTSTART:20231117T090000
DTEND:20231117T100000
SUMMARY:NCyTE Monthly Meeting
DESCRIPTION:<p style="text-align: center;"></p><p data-wacontent="9" data-wacontenttag="P" align="center"><strong data-wacontent="14" data-wacontenttag="STRONG">SOC-in-a-Box</strong></p><p data-wacontent="15" data-wacontenttag="P" align="center">November 17, 2023<br data-wacontent="20" data-wacontenttag="BR">9 am PST |Virtual</p><p data-wacontent="21" data-wacontenttag="P" align="center"><a href="	https://ncytecenter.wildapricot.org/event-5151401 " target="_blank"><strong>REGISTER TO ATTEND</strong></a></p><p data-wacontent="27" data-wacontenttag="P">How does a new Security Operations Center monitor and manage an organization's threat posture?</p><p data-wacontent="30" data-wacontenttag="P">Join us at this month's meeting to learn SOC-in-the-Box concepts, operations, tech stacks, and financials.&nbsp;&nbsp;</p><p data-wacontent="39" data-wacontenttag="P">SOC-in-a-Box solutions are designed to simplify the establishment of a SOC by providing a pre-configured set of hardware, software, and tools necessary for monitoring and analyzing an organization's security.&nbsp;&nbsp;These solutions often include security information and event management (SIEM) systems, threat intelligence feeds, log analysis tools, and more.</p><p data-wacontent="44" data-wacontenttag="P">Instructors, students, curriculum developers, and IT security representatives should attend.</p><p data-wacontent="48" data-wacontenttag="P">Meeting Info: When you register for the meeting, an automated response with a&nbsp; link to the meeting will be sent to your email. Check your junk mail if you don't receive an email within a few minutes of registering for the event.</p><p data-wacontent="48" data-wacontenttag="P" _rdeditor_exists="1">&nbsp;</p><hr><p>&nbsp;</p><p data-wacontent="48" data-wacontenttag="P">Presenters:</p><p data-wacontent="58" data-wacontenttag="P">&nbsp; John Kunelius<br data-wacontent="66" data-wacontenttag="BR">Vice President/COO<br data-wacontent="69" data-wacontenttag="BR">Norwich University Applied Research Institutes (NUARI)</p><p data-wacontent="71" data-wacontenttag="P">&nbsp;</p><p data-wacontent="71" data-wacontenttag="P">&nbsp;</p><p data-wacontent="75" data-wacontenttag="P">Caleb Paquette<br data-wacontent="79" data-wacontenttag="BR">Senior System Security Administrator<br data-wacontent="82" data-wacontenttag="BR">Norwich University Applied Research Institutes (NUARI)</p><p data-wacontent="75" data-wacontenttag="P">&nbsp;</p><p data-wacontent="75" data-wacontenttag="P">&nbsp;</p><div><div><p data-wacontent="75" data-wacontenttag="P">Nuari provides cyber exercises, secure network monitoring, custom consulting, research, and education on critical national security issues. Visit their <a href="https://nuari.org/" target="_blank">website</a>.&nbsp;</p><p data-wacontent="83" data-wacontenttag="P">&nbsp;</p><p data-wacontent="83" data-wacontenttag="P" _rdeditor_exists="1">&nbsp;</p><p data-wacontent="89" data-wacontenttag="P">&nbsp;<hr></p><p data-wacontent="89" data-wacontenttag="P"></p><p>&nbsp;</p><p data-wacontent="89" data-wacontenttag="P">&nbsp;</p><p data-wacontent="89" data-wacontenttag="P">NCyTE is funded by the National Science Foundation grant #2054724.<abbr data-wawebkitcopymarker="1698873282751">&nbsp;</abbr></p></div></div>
X-ALT-DESC;FMTTYPE=text/html:<p style="text-align: center;"></p><p data-wacontent="9" data-wacontenttag="P" align="center"><strong data-wacontent="14" data-wacontenttag="STRONG">SOC-in-a-Box</strong></p><p data-wacontent="15" data-wacontenttag="P" align="center">November 17, 2023<br data-wacontent="20" data-wacontenttag="BR">9 am PST |Virtual</p><p data-wacontent="21" data-wacontenttag="P" align="center"><a href="	https://ncytecenter.wildapricot.org/event-5151401 " target="_blank"><strong>REGISTER TO ATTEND</strong></a></p><p data-wacontent="27" data-wacontenttag="P">How does a new Security Operations Center monitor and manage an organization's threat posture?</p><p data-wacontent="30" data-wacontenttag="P">Join us at this month's meeting to learn SOC-in-the-Box concepts, operations, tech stacks, and financials.&nbsp;&nbsp;</p><p data-wacontent="39" data-wacontenttag="P">SOC-in-a-Box solutions are designed to simplify the establishment of a SOC by providing a pre-configured set of hardware, software, and tools necessary for monitoring and analyzing an organization's security.&nbsp;&nbsp;These solutions often include security information and event management (SIEM) systems, threat intelligence feeds, log analysis tools, and more.</p><p data-wacontent="44" data-wacontenttag="P">Instructors, students, curriculum developers, and IT security representatives should attend.</p><p data-wacontent="48" data-wacontenttag="P">Meeting Info: When you register for the meeting, an automated response with a&nbsp; link to the meeting will be sent to your email. Check your junk mail if you don't receive an email within a few minutes of registering for the event.</p><p data-wacontent="48" data-wacontenttag="P" _rdeditor_exists="1">&nbsp;</p><hr><p>&nbsp;</p><p data-wacontent="48" data-wacontenttag="P">Presenters:</p><p data-wacontent="58" data-wacontenttag="P">&nbsp; John Kunelius<br data-wacontent="66" data-wacontenttag="BR">Vice President/COO<br data-wacontent="69" data-wacontenttag="BR">Norwich University Applied Research Institutes (NUARI)</p><p data-wacontent="71" data-wacontenttag="P">&nbsp;</p><p data-wacontent="71" data-wacontenttag="P">&nbsp;</p><p data-wacontent="75" data-wacontenttag="P">Caleb Paquette<br data-wacontent="79" data-wacontenttag="BR">Senior System Security Administrator<br data-wacontent="82" data-wacontenttag="BR">Norwich University Applied Research Institutes (NUARI)</p><p data-wacontent="75" data-wacontenttag="P">&nbsp;</p><p data-wacontent="75" data-wacontenttag="P">&nbsp;</p><div><div><p data-wacontent="75" data-wacontenttag="P">Nuari provides cyber exercises, secure network monitoring, custom consulting, research, and education on critical national security issues. Visit their <a href="https://nuari.org/" target="_blank">website</a>.&nbsp;</p><p data-wacontent="83" data-wacontenttag="P">&nbsp;</p><p data-wacontent="83" data-wacontenttag="P" _rdeditor_exists="1">&nbsp;</p><p data-wacontent="89" data-wacontenttag="P">&nbsp;<hr></p><p data-wacontent="89" data-wacontenttag="P"></p><p>&nbsp;</p><p data-wacontent="89" data-wacontenttag="P">&nbsp;</p><p data-wacontent="89" data-wacontenttag="P">NCyTE is funded by the National Science Foundation grant #2054724.<abbr data-wawebkitcopymarker="1698873282751">&nbsp;</abbr></p></div></div>
LOCATION:Virtual\, 
CLASS:PUBLIC
END:VEVENT
END:VCALENDAR
