BEGIN:VCALENDAR
VERSION:2.0
PRODID:NCyTE Center Calendar Creator
METHOD:PUBLISH
BEGIN:VEVENT
DTSTAMP:20231006T130834
DTSTART:20231020T090000
DTEND:20231020T100000
SUMMARY:NCyTE Monthly Member Meeting
DESCRIPTION:<p data-wacontent="11" data-wacontenttag="P" align="center"><strong data-wacontent="16" data-wacontenttag="STRONG">&nbsp;</strong></p><p data-wacontent="11" data-wacontenttag="P" align="center"><strong data-wacontent="16" data-wacontenttag="STRONG">NCAE-C Student Code of Ethics and Professional Conduct Toolkit</strong></p><p data-wacontent="18" data-wacontenttag="P" align="center">October 20, 2023 |&nbsp;9 - 10 am PST |&nbsp;Virtual Meeting</p><p data-wacontent="24" data-wacontenttag="P" style="text-align: center;"><a href="	https://ncytecenter.wildapricot.org/event-5151352 " target="_blank">REGISTER TO ATTEND</a></p><p data-wacontent="24" data-wacontenttag="P" style="text-align: center;">&nbsp;</p>How do we instill the highest standards of integrity, honesty, trustworthiness, and professionalism in our cybersecurity students?<br data-wacontent="31" data-wacontenttag="BR"><br data-wacontent="33" data-wacontenttag="BR">The need for ethical cybersecurity professionals is great in our field.&nbsp;&nbsp;While there are several ethical codes of conduct and practices available, their applicability can vary depending on the industry or job role a student may enter.<br data-wacontent="35" data-wacontenttag="BR"><br data-wacontent="36" data-wacontenttag="BR">The aim of the Student Code of Ethics and Professional Conduct and Toolkit is to&nbsp;make approachable, teachable, and applicable ethical standards in one’s professional life regardless of industry or institution.<p data-wacontent="41" data-wacontenttag="P">We encourage educators, industry leaders, and students to attend.&nbsp;</p><p><hr><br data-wacontent="47" data-wacontenttag="BR"><strong data-wacontent="48" data-wacontenttag="STRONG">Presenters: Kelli Burgin &amp; Thomas Hill</strong></p><p><span data-wacontent="48" data-wacontenttag="STRONG">Kelli Burgin, Assistant Professor of Cybersecurity, began teaching in the Cybersecurity program at Montreat College in January 2016. Prior to coming to Montreat, she was the IT coordinator at Audubon County Memorial Hospital in Audubon, Iowa, where she practiced Cybersecurity in the context of HIPAA compliance.<abbr data-wawebkitcopymarker="1696621983687"></abbr></span></p><p><span data-wacontent="48" data-wacontenttag="STRONG"><abbr data-wawebkitcopymarker="1696621983687">Thomas Hill, Assistant Professor of Cybersecurity at Montreat College, is an Alum of Montreat who worked as an adjunct for several years while completing his master's degree in Cybersecurity. He has also worked for a local government agency as an IT Security Analyst.&nbsp;<abbr data-wawebkitcopymarker="1696621997458">&nbsp;</abbr>&nbsp;</abbr></span></p><p><span data-wacontent="48" data-wacontenttag="STRONG"><abbr data-wawebkitcopymarker="1696621983687"></abbr></span><abbr data-wawebkitcopymarker="1696621872730"></abbr></p><p><abbr data-wawebkitcopymarker="1696621872730"><hr></abbr></p><p><abbr data-wawebkitcopymarker="1696621872730">&nbsp;Additional Resources:</abbr></p><p data-wacontent="131" data-wacontenttag="P"><a data-wacontent="77" data-wacontenttag="A" href="https://www.montreat.edu/cyber-oath/" title="Montreat Cybersecurity Oath" target="_blank">Montreat College Cybersecurity Oath</a><br data-wacontent="79" data-wacontenttag="BR"></p><p><abbr data-wawebkitcopymarker="1696621872730"><a data-wacontent="81" data-wacontenttag="A" href="https://tinyurl.com/NCAEProfEthicDoc" target="_blank">NCAE Student Professionalism&nbsp;Ethics<br data-wacontent="83" data-wacontenttag="BR"></a><br data-wacontent="84" data-wacontenttag="BR"><a data-wacontent="85" data-wacontenttag="A" href="https://clark.center/home" title="Clark Center Free Curriculum" target="_blank">Clark Center Free Curriculum</a><abbr data-wawebkitcopymarker="1696622185813">&nbsp;</abbr></abbr></p><p><span style="color: rgb(0, 0, 0);"><abbr data-wawebkitcopymarker="1696621872730"><br><hr></abbr></span></p><p><span style="color: rgb(0, 0, 0);"><abbr data-wawebkitcopymarker="1696621872730">&nbsp;Facilitator: Stephen D. Miller<abbr data-wawebkitcopymarker="1696622204567">&nbsp;</abbr></abbr></span></p><p data-wacontent="97" data-wacontenttag="P" align="left">Stephen serves as a&nbsp;Co-Principal Investigator for NCyTE and is&nbsp;the Department Chair of the Information Technology and Cyber Security Center of Excellence for Eastern New Mexico University (ENMU)-Ruidoso, where he is responsible for campus Information Technology (IT), IT personnel, Information Systems Curriculum, and teaching.&nbsp;</p><p data-wacontent="97" data-wacontenttag="P" align="left">&nbsp;</p><p data-wacontent="97" data-wacontenttag="P" align="left"><hr></p><p data-wacontent="97" data-wacontenttag="P" align="left"></p><p data-wacontent="116" data-wacontenttag="P" align="left"></p><p data-wacontent="116" data-wacontenttag="P" align="left">&nbsp; &nbsp; &nbsp; NCyTE is funded by the National Science Foundation grant #2054724<abbr data-wawebkitcopymarker="1696622308554">&nbsp;</abbr></p><p data-wacontent="119" data-wacontenttag="P" align="left">&nbsp;</p><p><span style="color: rgb(0, 0, 0);"><abbr data-wawebkitcopymarker="1696621872730">&nbsp;</abbr></span></p><p><span style="color: rgb(0, 0, 0);"><abbr data-wawebkitcopymarker="1696621872730">&nbsp;</abbr></span></p><p><abbr data-wawebkitcopymarker="1696621872730"><span style="color: rgb(0, 0, 0);">&nbsp;</span></abbr></p>
X-ALT-DESC;FMTTYPE=text/html:<p data-wacontent="11" data-wacontenttag="P" align="center"><strong data-wacontent="16" data-wacontenttag="STRONG">&nbsp;</strong></p><p data-wacontent="11" data-wacontenttag="P" align="center"><strong data-wacontent="16" data-wacontenttag="STRONG">NCAE-C Student Code of Ethics and Professional Conduct Toolkit</strong></p><p data-wacontent="18" data-wacontenttag="P" align="center">October 20, 2023 |&nbsp;9 - 10 am PST |&nbsp;Virtual Meeting</p><p data-wacontent="24" data-wacontenttag="P" style="text-align: center;"><a href="	https://ncytecenter.wildapricot.org/event-5151352 " target="_blank">REGISTER TO ATTEND</a></p><p data-wacontent="24" data-wacontenttag="P" style="text-align: center;">&nbsp;</p>How do we instill the highest standards of integrity, honesty, trustworthiness, and professionalism in our cybersecurity students?<br data-wacontent="31" data-wacontenttag="BR"><br data-wacontent="33" data-wacontenttag="BR">The need for ethical cybersecurity professionals is great in our field.&nbsp;&nbsp;While there are several ethical codes of conduct and practices available, their applicability can vary depending on the industry or job role a student may enter.<br data-wacontent="35" data-wacontenttag="BR"><br data-wacontent="36" data-wacontenttag="BR">The aim of the Student Code of Ethics and Professional Conduct and Toolkit is to&nbsp;make approachable, teachable, and applicable ethical standards in one’s professional life regardless of industry or institution.<p data-wacontent="41" data-wacontenttag="P">We encourage educators, industry leaders, and students to attend.&nbsp;</p><p><hr><br data-wacontent="47" data-wacontenttag="BR"><strong data-wacontent="48" data-wacontenttag="STRONG">Presenters: Kelli Burgin &amp; Thomas Hill</strong></p><p><span data-wacontent="48" data-wacontenttag="STRONG">Kelli Burgin, Assistant Professor of Cybersecurity, began teaching in the Cybersecurity program at Montreat College in January 2016. Prior to coming to Montreat, she was the IT coordinator at Audubon County Memorial Hospital in Audubon, Iowa, where she practiced Cybersecurity in the context of HIPAA compliance.<abbr data-wawebkitcopymarker="1696621983687"></abbr></span></p><p><span data-wacontent="48" data-wacontenttag="STRONG"><abbr data-wawebkitcopymarker="1696621983687">Thomas Hill, Assistant Professor of Cybersecurity at Montreat College, is an Alum of Montreat who worked as an adjunct for several years while completing his master's degree in Cybersecurity. He has also worked for a local government agency as an IT Security Analyst.&nbsp;<abbr data-wawebkitcopymarker="1696621997458">&nbsp;</abbr>&nbsp;</abbr></span></p><p><span data-wacontent="48" data-wacontenttag="STRONG"><abbr data-wawebkitcopymarker="1696621983687"></abbr></span><abbr data-wawebkitcopymarker="1696621872730"></abbr></p><p><abbr data-wawebkitcopymarker="1696621872730"><hr></abbr></p><p><abbr data-wawebkitcopymarker="1696621872730">&nbsp;Additional Resources:</abbr></p><p data-wacontent="131" data-wacontenttag="P"><a data-wacontent="77" data-wacontenttag="A" href="https://www.montreat.edu/cyber-oath/" title="Montreat Cybersecurity Oath" target="_blank">Montreat College Cybersecurity Oath</a><br data-wacontent="79" data-wacontenttag="BR"></p><p><abbr data-wawebkitcopymarker="1696621872730"><a data-wacontent="81" data-wacontenttag="A" href="https://tinyurl.com/NCAEProfEthicDoc" target="_blank">NCAE Student Professionalism&nbsp;Ethics<br data-wacontent="83" data-wacontenttag="BR"></a><br data-wacontent="84" data-wacontenttag="BR"><a data-wacontent="85" data-wacontenttag="A" href="https://clark.center/home" title="Clark Center Free Curriculum" target="_blank">Clark Center Free Curriculum</a><abbr data-wawebkitcopymarker="1696622185813">&nbsp;</abbr></abbr></p><p><span style="color: rgb(0, 0, 0);"><abbr data-wawebkitcopymarker="1696621872730"><br><hr></abbr></span></p><p><span style="color: rgb(0, 0, 0);"><abbr data-wawebkitcopymarker="1696621872730">&nbsp;Facilitator: Stephen D. Miller<abbr data-wawebkitcopymarker="1696622204567">&nbsp;</abbr></abbr></span></p><p data-wacontent="97" data-wacontenttag="P" align="left">Stephen serves as a&nbsp;Co-Principal Investigator for NCyTE and is&nbsp;the Department Chair of the Information Technology and Cyber Security Center of Excellence for Eastern New Mexico University (ENMU)-Ruidoso, where he is responsible for campus Information Technology (IT), IT personnel, Information Systems Curriculum, and teaching.&nbsp;</p><p data-wacontent="97" data-wacontenttag="P" align="left">&nbsp;</p><p data-wacontent="97" data-wacontenttag="P" align="left"><hr></p><p data-wacontent="97" data-wacontenttag="P" align="left"></p><p data-wacontent="116" data-wacontenttag="P" align="left"></p><p data-wacontent="116" data-wacontenttag="P" align="left">&nbsp; &nbsp; &nbsp; NCyTE is funded by the National Science Foundation grant #2054724<abbr data-wawebkitcopymarker="1696622308554">&nbsp;</abbr></p><p data-wacontent="119" data-wacontenttag="P" align="left">&nbsp;</p><p><span style="color: rgb(0, 0, 0);"><abbr data-wawebkitcopymarker="1696621872730">&nbsp;</abbr></span></p><p><span style="color: rgb(0, 0, 0);"><abbr data-wawebkitcopymarker="1696621872730">&nbsp;</abbr></span></p><p><abbr data-wawebkitcopymarker="1696621872730"><span style="color: rgb(0, 0, 0);">&nbsp;</span></abbr></p>
LOCATION:Virtual\, 
CLASS:PUBLIC
END:VEVENT
END:VCALENDAR
