BEGIN:VCALENDAR
VERSION:2.0
PRODID:NCyTE Center Calendar Creator
METHOD:PUBLISH
BEGIN:VEVENT
DTSTAMP:20231002T105611
DTSTART:20231101T130000
DTEND:20231102T160000
SUMMARY:2023 Analysts’ Open House: An Electric Vehicle (EV) Security Symposium
DESCRIPTION:<p style="text-align: center;"><strong>&nbsp;FBI OPS EVENT ANNOUNCEMENT - REGISTRATION OPEN</strong></p><p style="text-align: center;"><strong>2023 Analysts’ Open House: An Electric Vehicle (EV) Security Symposium</strong></p><p style="text-align: center;">&nbsp;1-2 November 2023 from 1:00 P.M. – 4:00 P.M. (<strong>EDT</strong>)</p><p>With the increased adoption of EVs as part of vehicle fleets across the country, there is a growing need for the private sector and U.S. Government to collaborate and better understand emerging trends, opportunities, and threats related to fleet electrification. This event is intended to facilitate information sharing and the bilateral exchange of subject matter expertise regarding the security issues surrounding EV development and its incorporation into critical manufacturing facilities, transportation systems, and the Nation’s electric grid.<br>This two-day webinar will feature a variety of speakers and the following topic discussions:</p><p  style="margin-left: 40px;">• Welcome and opening remarks from the FBI and the Operational Technology Division<br>• Briefing on the current EV threat landscape by the Automotive Information Sharing and Analysis Center (Auto-ISAC)<br>• Keynote Speaker from the Joint Office of Energy and Transportation<br>• Roundtable discussion on Mapping the Transition to EV Fleets<br>• Presentations on Building a Resilient EV Supply Chain from the Department of Homeland Security and FBI<br>• Securing the EV Lifecycle through Threat Analysis and Risk Assessments<br>• Briefings on Building a Secure EV Charging Ecosystem</p><p style="text-align: center;"><a href="https://register.gotowebinar.com/register/4864967749633704283" target="_blank"><strong>REGISTER&nbsp;</strong></a></p><p><hr></p><p>Hosted by the FBI’s Automotive Sector Specific Working Group, which includes representatives from across the FBI Enterprise, U.S. Government agencies, and key private sector partners from the Auto-ISAC, the Domestic Security Alliance Council, and InfraGard.</p>
X-ALT-DESC;FMTTYPE=text/html:<p style="text-align: center;"><strong>&nbsp;FBI OPS EVENT ANNOUNCEMENT - REGISTRATION OPEN</strong></p><p style="text-align: center;"><strong>2023 Analysts’ Open House: An Electric Vehicle (EV) Security Symposium</strong></p><p style="text-align: center;">&nbsp;1-2 November 2023 from 1:00 P.M. – 4:00 P.M. (<strong>EDT</strong>)</p><p>With the increased adoption of EVs as part of vehicle fleets across the country, there is a growing need for the private sector and U.S. Government to collaborate and better understand emerging trends, opportunities, and threats related to fleet electrification. This event is intended to facilitate information sharing and the bilateral exchange of subject matter expertise regarding the security issues surrounding EV development and its incorporation into critical manufacturing facilities, transportation systems, and the Nation’s electric grid.<br>This two-day webinar will feature a variety of speakers and the following topic discussions:</p><p  style="margin-left: 40px;">• Welcome and opening remarks from the FBI and the Operational Technology Division<br>• Briefing on the current EV threat landscape by the Automotive Information Sharing and Analysis Center (Auto-ISAC)<br>• Keynote Speaker from the Joint Office of Energy and Transportation<br>• Roundtable discussion on Mapping the Transition to EV Fleets<br>• Presentations on Building a Resilient EV Supply Chain from the Department of Homeland Security and FBI<br>• Securing the EV Lifecycle through Threat Analysis and Risk Assessments<br>• Briefings on Building a Secure EV Charging Ecosystem</p><p style="text-align: center;"><a href="https://register.gotowebinar.com/register/4864967749633704283" target="_blank"><strong>REGISTER&nbsp;</strong></a></p><p><hr></p><p>Hosted by the FBI’s Automotive Sector Specific Working Group, which includes representatives from across the FBI Enterprise, U.S. Government agencies, and key private sector partners from the Auto-ISAC, the Domestic Security Alliance Council, and InfraGard.</p>
LOCATION:Virtual\, 
CLASS:PUBLIC
END:VEVENT
END:VCALENDAR
