BEGIN:VCALENDAR
VERSION:2.0
PRODID:NCyTE Center Calendar Creator
METHOD:PUBLISH
BEGIN:VEVENT
DTSTAMP:20230921T131144
DTSTART:20240603T080000
DTEND:20240605T170000
SUMMARY:NICE Conference
DESCRIPTION:<p><p style="text-align: center;">&nbsp;</p></p><p>NICE Conference &amp; Expo: Strengthening Ecosystems&nbsp;</p><p>&nbsp;June 3-5, 2024&nbsp;</p><p>Sheraton Dallas in Dallas, Texas.</p><p>This year’s conference theme “Strengthening Ecosystems: Aligning Stakeholders to Bridge the Cybersecurity Workforce Gap” highlights the collective effort to strengthen the cybersecurity landscape. By joining forces with key partners, we can foster a more robust cybersecurity ecosystem to bridge the workforce gap.&nbsp;</p><p style="text-align: center;"><a href="https://niceconference.org/" target="_blank">REGISTER TO ATTEND</a></p>
X-ALT-DESC;FMTTYPE=text/html:<p><p style="text-align: center;">&nbsp;</p></p><p>NICE Conference &amp; Expo: Strengthening Ecosystems&nbsp;</p><p>&nbsp;June 3-5, 2024&nbsp;</p><p>Sheraton Dallas in Dallas, Texas.</p><p>This year’s conference theme “Strengthening Ecosystems: Aligning Stakeholders to Bridge the Cybersecurity Workforce Gap” highlights the collective effort to strengthen the cybersecurity landscape. By joining forces with key partners, we can foster a more robust cybersecurity ecosystem to bridge the workforce gap.&nbsp;</p><p style="text-align: center;"><a href="https://niceconference.org/" target="_blank">REGISTER TO ATTEND</a></p>
LOCATION:Sheraton Dallas\, Dallas\, Texas 
CLASS:PUBLIC
END:VEVENT
END:VCALENDAR
