BEGIN:VCALENDAR
VERSION:2.0
PRODID:NCyTE Center Calendar Creator
METHOD:PUBLISH
BEGIN:VEVENT
DTSTAMP:20241114T115947
DTSTART:20241220T090000
DTEND:20241220T100000
SUMMARY:NCyTE Monthly Meeting
DESCRIPTION:<p style="text-align: center;"></p><p style="text-align: center;">Monthly Member Meeting </p><p align="center">December 20 | 9 am PST | Virtual</p><p style="text-align: center;"><strong style="color: rgb(0, 48, 92); font-family: inherit; font-size: 32px; text-align: left;">Wrap Up the Holidays with a Sticker Heist Toolkit</strong></p><h2 style="text-align: center;"><a href="https://ncytecenter.wildapricot.org/event-5941293 " target="_blank">REGISTER</a></h2><p>Who likes a good puzzle? Join us for the December NCyTE Monthly meeting if you do!&nbsp;</p><p>Sticker Heist is a hands-on cybersecurity tool for recruiting, training and pentesting exercises.&nbsp;</p><p><em>In the not-too-distant future, laptop stickers are the new global currency, and you've just gotten your hands on a safe full of them. The safe is locked for now, but its security system is no match for your team's hacking skills. Your mission: hack into the security system, disable the alarms, and pull off the heist of a lifetime... but you're already running short on time.</em></p><p>Review the new hands-on cybersecurity education tool, Sticker Heist (<a href="https://linkprotect.cudasvc.com/url?a=https%3a%2f%2fwww.stickerheist.com&amp;c=E,1,YwdCctt2HM8xDBds_J-bzNEU1C50o0HW80sz7szuBUh3rP8gpCNJFCdw4_4G0ffqzIEMK25POtZh44Rr2g5u2a1izddNeSKfvEFenwEtuk1nM0CPgzS0ww,,&amp;typo=1&amp;ancr_add=1" target="_blank">www.stickerheist.com</a>).&nbsp;&nbsp;</p><p>&nbsp;<hr>Facilitators:</p><p>&nbsp;Professor Mike Libassi, Sc.D.<br>Mike has over 20 years in the technology field.&nbsp; After eight years in the US Navy Mike started as a software tester and worked as software developer, application engineer, system administrator, capacity engineer and cybersecurity.&nbsp;Mike holds a BS in Business Information Systems, MS in Computer Information Systems and Doctorate in Computer Science in Cybersecurity.&nbsp;&nbsp;Mike currently is a full-time Professor at Sinclair College where he develops and teaches courses in cybersecurity and forensics.&nbsp; Mike also has done contract work in web vulnerability assessment, penetration, and mobile application testing.<br><br>Kevin "Casey" O'Leary<br>Project Manager – Computer Science and Information Technology - NSF Grant, Sinclair Community College, and Adjunct Professor, Criminal Justice Sciences, Sinclair Community College.&nbsp; &nbsp;Casey is a retired federal law enforcement officer and has conducted criminal and cyber investigations in the public and private sector. Casey holds a Master of Policy Management from Georgetown University.<br><br><hr><br><br><br><br>NCyTE is funded by the National Science Foundation grant #2054724</p><p>&nbsp;</p>
X-ALT-DESC;FMTTYPE=text/html:<p style="text-align: center;"></p><p style="text-align: center;">Monthly Member Meeting </p><p align="center">December 20 | 9 am PST | Virtual</p><p style="text-align: center;"><strong style="color: rgb(0, 48, 92); font-family: inherit; font-size: 32px; text-align: left;">Wrap Up the Holidays with a Sticker Heist Toolkit</strong></p><h2 style="text-align: center;"><a href="https://ncytecenter.wildapricot.org/event-5941293 " target="_blank">REGISTER</a></h2><p>Who likes a good puzzle? Join us for the December NCyTE Monthly meeting if you do!&nbsp;</p><p>Sticker Heist is a hands-on cybersecurity tool for recruiting, training and pentesting exercises.&nbsp;</p><p><em>In the not-too-distant future, laptop stickers are the new global currency, and you've just gotten your hands on a safe full of them. The safe is locked for now, but its security system is no match for your team's hacking skills. Your mission: hack into the security system, disable the alarms, and pull off the heist of a lifetime... but you're already running short on time.</em></p><p>Review the new hands-on cybersecurity education tool, Sticker Heist (<a href="https://linkprotect.cudasvc.com/url?a=https%3a%2f%2fwww.stickerheist.com&amp;c=E,1,YwdCctt2HM8xDBds_J-bzNEU1C50o0HW80sz7szuBUh3rP8gpCNJFCdw4_4G0ffqzIEMK25POtZh44Rr2g5u2a1izddNeSKfvEFenwEtuk1nM0CPgzS0ww,,&amp;typo=1&amp;ancr_add=1" target="_blank">www.stickerheist.com</a>).&nbsp;&nbsp;</p><p>&nbsp;<hr>Facilitators:</p><p>&nbsp;Professor Mike Libassi, Sc.D.<br>Mike has over 20 years in the technology field.&nbsp; After eight years in the US Navy Mike started as a software tester and worked as software developer, application engineer, system administrator, capacity engineer and cybersecurity.&nbsp;Mike holds a BS in Business Information Systems, MS in Computer Information Systems and Doctorate in Computer Science in Cybersecurity.&nbsp;&nbsp;Mike currently is a full-time Professor at Sinclair College where he develops and teaches courses in cybersecurity and forensics.&nbsp; Mike also has done contract work in web vulnerability assessment, penetration, and mobile application testing.<br><br>Kevin "Casey" O'Leary<br>Project Manager – Computer Science and Information Technology - NSF Grant, Sinclair Community College, and Adjunct Professor, Criminal Justice Sciences, Sinclair Community College.&nbsp; &nbsp;Casey is a retired federal law enforcement officer and has conducted criminal and cyber investigations in the public and private sector. Casey holds a Master of Policy Management from Georgetown University.<br><br><hr><br><br><br><br>NCyTE is funded by the National Science Foundation grant #2054724</p><p>&nbsp;</p>
LOCATION:Virtual\, 
CLASS:PUBLIC
END:VEVENT
END:VCALENDAR
