BEGIN:VCALENDAR
VERSION:2.0
PRODID:NCyTE Center Calendar Creator
METHOD:PUBLISH
BEGIN:VEVENT
DTSTAMP:20240923T131000
DTSTART:20241021T080000
DTEND:20241021T100000
SUMMARY:NCyTE Monthly Meeting
DESCRIPTION:<p style="text-align: center;"></p><p style="text-align: center;">Monthly Member Meeting - Virtual</p><p style="text-align: center;">Friday, October 18, 2024</p><p style="text-align: center;">9:00 am PST - Virtual</p><p style="text-align: center;">&nbsp;</p><p>Join us to explore the array of cybersecurity curricula available free at the&nbsp;<a href="https://clark.center/home" target="_blank">CLARK Center</a>!&nbsp;</p><p>CLARK offers access to over 1,700 high-quality, impactful cybersecurity curriculum modules, created by leading researchers and rigorously peer-reviewed by instructional designers and subject matter experts.</p><p>Whether you're looking to introduce new cybersecurity courses or enhance your existing curriculum, CLARK provides ready-to-use, customizable content, including videos, labs, and slides, all available under a Creative Commons 4.0 license.</p><p>In today’s session, our presenters will guide you through a tour of the platform, showcasing popular materials and demonstrating how easy it is to download and integrate free cybersecurity modules into your classroom.</p><p>Don't miss this opportunity to upgrade your cybersecurity curriculum!</p><p>&nbsp;<hr></p><p align="left">Presenters</p><p>Dr. Blair Taylor<br>Co-Executive Director and Co-Founder<br><a href="mailto:blair.taylor@secured.team" target="_blank">blair.taylor@secured.team</a></p><p>Dr. Sidd Kaza<br>Co-Executive Director and Co-Founder<br><a href="mailto:sidd.kaza@secured.team" target="_blank">sidd.kaza@secured.team</a></p><p>Paige Flores<br>Director of Technical Operations<br><a href="mailto:paige.zaleppa@secured.team" target="_blank">paige.zaleppa@secured.team</a></p><p>Leah Carter<br>Project Manager<br><a href="mailto:ltaylo17@students.towson.edu" target="_blank">ltaylo17@students.towson.edu&nbsp;</a></p><p>&nbsp;<hr></p><p>&nbsp;</p><p></p><p>&nbsp;</p><p>NCytE is funded by the National Science Foundation Grant #2054724</p>
X-ALT-DESC;FMTTYPE=text/html:<p style="text-align: center;"></p><p style="text-align: center;">Monthly Member Meeting - Virtual</p><p style="text-align: center;">Friday, October 18, 2024</p><p style="text-align: center;">9:00 am PST - Virtual</p><p style="text-align: center;">&nbsp;</p><p>Join us to explore the array of cybersecurity curricula available free at the&nbsp;<a href="https://clark.center/home" target="_blank">CLARK Center</a>!&nbsp;</p><p>CLARK offers access to over 1,700 high-quality, impactful cybersecurity curriculum modules, created by leading researchers and rigorously peer-reviewed by instructional designers and subject matter experts.</p><p>Whether you're looking to introduce new cybersecurity courses or enhance your existing curriculum, CLARK provides ready-to-use, customizable content, including videos, labs, and slides, all available under a Creative Commons 4.0 license.</p><p>In today’s session, our presenters will guide you through a tour of the platform, showcasing popular materials and demonstrating how easy it is to download and integrate free cybersecurity modules into your classroom.</p><p>Don't miss this opportunity to upgrade your cybersecurity curriculum!</p><p>&nbsp;<hr></p><p align="left">Presenters</p><p>Dr. Blair Taylor<br>Co-Executive Director and Co-Founder<br><a href="mailto:blair.taylor@secured.team" target="_blank">blair.taylor@secured.team</a></p><p>Dr. Sidd Kaza<br>Co-Executive Director and Co-Founder<br><a href="mailto:sidd.kaza@secured.team" target="_blank">sidd.kaza@secured.team</a></p><p>Paige Flores<br>Director of Technical Operations<br><a href="mailto:paige.zaleppa@secured.team" target="_blank">paige.zaleppa@secured.team</a></p><p>Leah Carter<br>Project Manager<br><a href="mailto:ltaylo17@students.towson.edu" target="_blank">ltaylo17@students.towson.edu&nbsp;</a></p><p>&nbsp;<hr></p><p>&nbsp;</p><p></p><p>&nbsp;</p><p>NCytE is funded by the National Science Foundation Grant #2054724</p>
LOCATION:Virtual\, 
CLASS:PUBLIC
END:VEVENT
END:VCALENDAR
