BEGIN:VCALENDAR
VERSION:2.0
PRODID:NCyTE Center Calendar Creator
METHOD:PUBLISH
BEGIN:VEVENT
DTSTAMP:20240520T150929
DTSTART:20240524T090000
DTEND:20240524T100000
SUMMARY:NCyTE Monthly Meeting
DESCRIPTION:<p style="text-align: center;"></p><p style="text-align: center;"><strong>Integrating Zero-Trust Principles into IIoT Architectures for Enhanced Security</strong>&nbsp;</p><p style="text-align: center;">Monthly Member Meeting - Virtual</p><p style="text-align: center;">Friday, May 24, 2024</p><h1 style="text-align: center;"><a href="	https://ncytecenter.wildapricot.org/event-5492950 " target="_blank">REGISTER</a></h1><h5 style="text-align: center;">Join us for an engaging discussion with Dr. Shaya Wolf from the Idaho National Lab. You don't have to be a member to attend!</h5><p>While zero-trust architectures have been employed for networks and data centers for years, our research focuses on integrating zero-trust principles into Industrial Internet of Things (IIOT) architectures.</p><p>Zero-trust architectures can be integrated into IIoT architectures to enhance system security using resilience and security metrics that enable full-scale system validation and evidence-based security assurances.</p><p>This research facilitates the modeling of smart building systems through lightweight devices and the creation of graph representations of industrial processes based on multi-disciplinary schemas. These processes have been analyzed using zero-trust architecture principles through the development of many new tools centered around codified attack surfaces and describing the system with quality data.</p><p><span style="text-align: center;">Finally, this research focuses on traceable data and graph-based data analysis strategies, thereby creating a flexible data analytics toolkit for IIoT systems including AI/ML models.</span></p><p><span style="text-align: center;">&nbsp;<hr></span></p><p data-wacontent="47" data-wacontenttag="P">Presenter:</p><p data-wacontent="51" data-wacontenttag="P">Dr. Shaya P. Wolf,&nbsp;Idaho National Laboratory</p><p data-wacontent="51" data-wacontenttag="P">&nbsp;<hr></p><p data-wacontent="51" data-wacontenttag="P"></p><p data-wacontent="51" data-wacontenttag="P">&nbsp;</p><p data-wacontent="51" data-wacontenttag="P">This event is funded by the National Science Foundation grant #2054724.&nbsp;<abbr data-wawebkitcopymarker="1716242843664">&nbsp;</abbr><span data-wacontent="65" data-wacontenttag="EM"></span></p>
X-ALT-DESC;FMTTYPE=text/html:<p style="text-align: center;"></p><p style="text-align: center;"><strong>Integrating Zero-Trust Principles into IIoT Architectures for Enhanced Security</strong>&nbsp;</p><p style="text-align: center;">Monthly Member Meeting - Virtual</p><p style="text-align: center;">Friday, May 24, 2024</p><h1 style="text-align: center;"><a href="	https://ncytecenter.wildapricot.org/event-5492950 " target="_blank">REGISTER</a></h1><h5 style="text-align: center;">Join us for an engaging discussion with Dr. Shaya Wolf from the Idaho National Lab. You don't have to be a member to attend!</h5><p>While zero-trust architectures have been employed for networks and data centers for years, our research focuses on integrating zero-trust principles into Industrial Internet of Things (IIOT) architectures.</p><p>Zero-trust architectures can be integrated into IIoT architectures to enhance system security using resilience and security metrics that enable full-scale system validation and evidence-based security assurances.</p><p>This research facilitates the modeling of smart building systems through lightweight devices and the creation of graph representations of industrial processes based on multi-disciplinary schemas. These processes have been analyzed using zero-trust architecture principles through the development of many new tools centered around codified attack surfaces and describing the system with quality data.</p><p><span style="text-align: center;">Finally, this research focuses on traceable data and graph-based data analysis strategies, thereby creating a flexible data analytics toolkit for IIoT systems including AI/ML models.</span></p><p><span style="text-align: center;">&nbsp;<hr></span></p><p data-wacontent="47" data-wacontenttag="P">Presenter:</p><p data-wacontent="51" data-wacontenttag="P">Dr. Shaya P. Wolf,&nbsp;Idaho National Laboratory</p><p data-wacontent="51" data-wacontenttag="P">&nbsp;<hr></p><p data-wacontent="51" data-wacontenttag="P"></p><p data-wacontent="51" data-wacontenttag="P">&nbsp;</p><p data-wacontent="51" data-wacontenttag="P">This event is funded by the National Science Foundation grant #2054724.&nbsp;<abbr data-wawebkitcopymarker="1716242843664">&nbsp;</abbr><span data-wacontent="65" data-wacontenttag="EM"></span></p>
LOCATION:Virtual\, 
CLASS:PUBLIC
END:VEVENT
END:VCALENDAR
