BEGIN:VCALENDAR
VERSION:2.0
PRODID:NCyTE Center Calendar Creator
METHOD:PUBLISH
BEGIN:VEVENT
DTSTAMP:20230921T145748
DTSTART:20240306T080000
DTEND:20240307T170000
SUMMARY:NCyTE's Annual NVC Meeting
DESCRIPTION:<p style="text-align: center;"></p><p style="text-align: center;">March 6-7, 2024</p><p style="text-align: center;">&nbsp;&nbsp;</p><p>The National Cybersecurity Training &amp; Education center will host it's annual grant review panel, the National Visiting Committee (NVC) on March 8-9, 2023. ATE centers are required to have a National Visiting Committee (NVC). In general, NVC's are like the advisory committees that many NSF-funded projects already have. However, a key difference is that an NVC reports directly to the NSF, as well as to the center they serve. NVCs are expected to prepare written reports and share them with center staff for review and comment and the final reports are then submitted to the center’s NSF program officer.&nbsp;</p><p>The NVC’s role is to help centers enhance their strengths and provide advice for how to address the challenges they face.&nbsp;</p><p>&nbsp;</p><p><strong>NCyTE's National Visiting Committee:</strong></p><ul>    <li><a href="https://www.ncyte.net/Home/Components/StaffDirectory/StaffDirectory/11/24#!/" target="_blank">Dr. Rassoul Dastmozd</a></li>    <li><a href="https://www.ncyte.net/Home/Components/StaffDirectory/StaffDirectory/13/24#!/" target="_blank">Murray Kenyon</a></li>    <li><a href="https://www.ncyte.net/Home/Components/StaffDirectory/StaffDirectory/15/24#!/" target="_blank">Lee Kim</a></li>    <li><a href="https://www.ncyte.net/Home/Components/StaffDirectory/StaffDirectory/17/24#!/" target="_blank">Steven Parker</a></li>    <li><a href="https://www.ncyte.net/Home/Components/StaffDirectory/StaffDirectory/71/24#!/" target="_blank">Ben Janis</a></li></ul>
X-ALT-DESC;FMTTYPE=text/html:<p style="text-align: center;"></p><p style="text-align: center;">March 6-7, 2024</p><p style="text-align: center;">&nbsp;&nbsp;</p><p>The National Cybersecurity Training &amp; Education center will host it's annual grant review panel, the National Visiting Committee (NVC) on March 8-9, 2023. ATE centers are required to have a National Visiting Committee (NVC). In general, NVC's are like the advisory committees that many NSF-funded projects already have. However, a key difference is that an NVC reports directly to the NSF, as well as to the center they serve. NVCs are expected to prepare written reports and share them with center staff for review and comment and the final reports are then submitted to the center’s NSF program officer.&nbsp;</p><p>The NVC’s role is to help centers enhance their strengths and provide advice for how to address the challenges they face.&nbsp;</p><p>&nbsp;</p><p><strong>NCyTE's National Visiting Committee:</strong></p><ul>    <li><a href="https://www.ncyte.net/Home/Components/StaffDirectory/StaffDirectory/11/24#!/" target="_blank">Dr. Rassoul Dastmozd</a></li>    <li><a href="https://www.ncyte.net/Home/Components/StaffDirectory/StaffDirectory/13/24#!/" target="_blank">Murray Kenyon</a></li>    <li><a href="https://www.ncyte.net/Home/Components/StaffDirectory/StaffDirectory/15/24#!/" target="_blank">Lee Kim</a></li>    <li><a href="https://www.ncyte.net/Home/Components/StaffDirectory/StaffDirectory/17/24#!/" target="_blank">Steven Parker</a></li>    <li><a href="https://www.ncyte.net/Home/Components/StaffDirectory/StaffDirectory/71/24#!/" target="_blank">Ben Janis</a></li></ul>
LOCATION:
CLASS:PUBLIC
END:VEVENT
END:VCALENDAR
